Workbook

Sheet Rabat
B3: CENNIK PODSTAWOWY
B4: KOBI LIGHT SP. Z O.O.
B6: obowiązujący od dnia: | C6: 12.10.2026
C8: GRUPA | D8: WPISZ RABAT %
B9: ŹRÓDŁA | C9: Tuby LED T8 | D9: 0
C10: Taśmy LED | D10: 0
C11: Żarówki LED | D11: 0
B13: OPRAWY PRZEMYSŁOWE | C13: Panele | D13: 0
C14: High bay | D14: 0
C15: Naświetlacze solarne | D15: 0
C16: Plafony | D16: 0
C17: Liniowe LED | D17: 0
C18: Downlight | D18: 0
C19: Uliczne | D19: 0
C20: Liniowe hermetyczne | D20: 0
C21: Szynoprzewód i akcesoria | D21: 0
C22: Uliczne solarne | D22: 0
C23: Naświetlacze LED | D23: 0
C24: Liniowe niehermetyczne | D24: 0
C25: Oprawy techniczne | D25: 0
C26: Oprawy na szynoprzewód | D26: 0
B28: OPRAWY DOMOWE | C28: Dekoracyjne podtynkowe | D28: 0
C29: Girlandy | D29: 0
C30: Lampy wiszące | D30: 0
C31: Ogrodowe | D31: 0
C32: Ogrodowe solarne | D32: 0
C33: Wzrost roślin | D33: 0
C34: Lampki biurkowe | D34: 0
C35: Dekoracyjne natynkowe | D35: 0
C36: Meblowe | D36: 0
B38: AKCESORIA | C38: Akcesoria | D38: 0
C39: Profile aluminiowe | D39: 0
B41: URZĄDZENIA ELEKTRYCZNE | C41: Wentylatory i termowentylatory | D41: 0
C43: Nowości | D43: 0
B46: ceny cennikowe zawierają opłaty KGO
B47: ceny cennikowe nie zawierają podatku VAT (ceny netto)
B49: BDO: 000003217 | D49: www.kobi.pl

Sheet Cennik
C1: Cennik obowiązujący od dnia: | D1: 12.10.2026 | E1: www.kobi.pl
A2: Zdjęcie | B2: Kategoria | C2: Podkategoria | D2: Marka | E2: Artykuł | F2: Kod | G2: Grupa rabatowa | H2: Cena cennikowa | I2: Cena po rabacie | J2: EEI | K2: Kod EAN | L2: jm | M2: Ilość w opakowaniu zbiorczym | N2: Ilość na palecie | O2: Gwarancja | P2: WWW | Q2: Eprel | R2: Uwagi | S2: CN | T2: KGO | U2: Waga netto (kg) | V2: Waga brutto (kg) | W2: Długość (cm) | X2: Szerokość (cm) | Y2: Wysokość (cm)
B3: OSPRZĘT ELEKTROINSTALACYJNY | C3: AKCESORIA | D3: Kobi | E3: Moduł zasilacza wodoodporny 12V 60W 5,0A IP67 | F3: 005695 | G3: Akcesoria | H3: 137 | I3: =$H3*(1-Rabat!$D$38) -> 137 | J3: nie dotyczy | K3: 5902479642192 | L3: szt | M3: 1 | O3: 2 lata | Q3: https://eprel.ec.europa.eu/qr/nie dotyczy | S3: 85044095 | T3: 0 | U3: 0.25 | V3: 0.27 | W3: 7 | X3: 20 | Y3: 5
B4: OSPRZĘT ELEKTROINSTALACYJNY | C4: AKCESORIA | D4: Kobi | E4: Moduł zasilacza wodoodporny 24V 150W 6,25A IP67 | F4: 005685 | G4: Akcesoria | H4: 298.83 | I4: =$H4*(1-Rabat!$D$38) -> 298.83 | J4: nie dotyczy | K4: 5902479642246 | L4: szt | M4: 1 | O4: 2 lata | P4: https://b2b.kobi.pl/pl/product/14141,modul-zasilacza-wodoodporny-24v-150w-6-25a-ip67?currency=PLN | Q4: https://eprel.ec.europa.eu/qr/nie dotyczy | S4: 85044095 | T4: 0 | U4: 0.61 | V4: 0.64 | W4: 26 | X4: 8.7 | Y4: 3
B5: OSPRZĘT ELEKTROINSTALACYJNY | C5: AKCESORIA | D5: Kobi | E5: Moduł zasilacza montażowy 12V 35W 3,0A | F5: 005684 | G5: Akcesoria | H5: 57 | I5: =$H5*(1-Rabat!$D$38) -> 57 | J5: nie dotyczy | K5: 5902479642116 | L5: szt | M5: 1 | O5: 2 lata | P5: https://b2b.kobi.pl/pl/product/14140,modul-zasilacza-montazowy-12v-35w-3-0a?currency=PLN | Q5: https://eprel.ec.europa.eu/qr/nie dotyczy | S5: 85044095 | T5: 0 | U5: 0.104 | V5: 0.119 | W5: 6.4 | X5: 9.4 | Y5: 4
B6: OSPRZĘT ELEKTROINSTALACYJNY | C6: AKCESORIA | D6: Kobi | E6: Moduł zasilacza wodoodporny 24V 200W 8.30A IP67 | F6: 005648 | G6: Akcesoria | H6: 352.75 | I6: =$H6*(1-Rabat!$D$38) -> 352.75 | J6: nie dotyczy | K6: 5902479641935 | L6: szt | M6: 1 | O6: 2 lata | P6: https://b2b.kobi.pl/pl/product/14104,modul-zasilacza-wodoodporny-24v-200w-8-30a-ip67?currency=PLN | Q6: https://eprel.ec.europa.eu/qr/nie dotyczy | S6: 85044095 | T6: 0 | U6: 0.75 | V6: 0.78 | W6: 26 | X6: 9 | Y6: 3.1
B7: OSPRZĘT ELEKTROINSTALACYJNY | C7: AKCESORIA | D7: Kobi | E7: Moduł zasilacza montażowy 12V 60W 5,0A | F7: 005597 | G7: Akcesoria | H7: 68 | I7: =$H7*(1-Rabat!$D$38) -> 68 | J7: nie dotyczy | K7: 5902479642000 | L7: szt | M7: 1 | O7: 2 lata | Q7: https://eprel.ec.europa.eu/qr/nie dotyczy | S7: 85044095 | T7: 0 | U7: 0.12 | V7: 0.143 | W7: 9 | X7: 4 | Y7: 6
B8: OSPRZĘT ELEKTROINSTALACYJNY | C8: AKCESORIA | D8: Kobi | E8: Moduł zasilacza montażowy 12V 100W 8,3A | F8: 005596 | G8: Akcesoria | H8: 125 | I8: =$H8*(1-Rabat!$D$38) -> 125 | J8: nie dotyczy | K8: 5902479642123 | L8: szt | M8: 1 | O8: 2 lata | P8: https://b2b.kobi.pl/pl/product/14050,modul-zasilacza-montazowy-12v-100w-8-3a?currency=PLN | Q8: https://eprel.ec.europa.eu/qr/nie dotyczy | S8: 85044095 | T8: 0 | U8: 0.182 | V8: 0.204 | W8: 4.2 | X8: 12.1 | Y8: 8.1
B9: OPRAWY PRZEMYSŁOWE | C9: PANELE LED | D9: Kobi Premium | E9: Panel LED DAVRO 40W 60x60 4000K Kobi Premium | F9: 005482 | G9: Nowości | H9: 84.44 | I9: =$H9*(1-Rabat!$D$43) -> 84.44 | J9: nie dotyczy | K9: 5907178030639 | L9: szt | M9: 6 | O9: 5 lat | P9: https://b2b.kobi.pl/pl/product/13936,panel-led-davro-40w-60x60-4000k-kobi-premium?currency=PLN | Q9: https://eprel.ec.europa.eu/qr/2858448 | R9: nowość | S9: 94054239 | T9: 1.1 | U9: 1.3 | V9: 1.6 | W9: 60.5 | X9: 65 | Y9: 3.2
B10: OSPRZĘT ELEKTROINSTALACYJNY | C10: AKCESORIA | D10: Kobi | E10: Zasilacz desktop 12V 36W 3,0A wtyk DC 2,1x5,5 | F10: 005477 | G10: Akcesoria | H10: 59.5 | I10: =$H10*(1-Rabat!$D$38) -> 59.5 | J10: nie dotyczy | K10: 5902479642345 | L10: szt | M10: 1 | O10: 2 lata | P10: https://b2b.kobi.pl/pl/product/13931,zasilacz-desktop-12v-36w-3-0a-wtyk-dc-2-1x5-5?currency=PLN | Q10: https://eprel.ec.europa.eu/qr/nie dotyczy | S10: 85044095 | T10: 0 | U10: 0.25 | V10: 0.276 | W10: 16 | X10: 10 | Y10: 4
B11: OSPRZĘT ELEKTROINSTALACYJNY | C11: AKCESORIA | D11: Kobi | E11: Programator PC24 Schuko Kobi | F11: 005456 | G11: Akcesoria | H11: 24.75 | I11: =$H11*(1-Rabat!$D$38) -> 24.75 | J11: nie dotyczy | K11: 5907178030479 | L11: szt | M11: 60 | O11: 2 lata | P11: https://b2b.kobi.pl/pl/product/13910,programator-pc24-schuko-kobi?currency=PLN | R11: nowość | S11: 91070000 | T11: 0.06 | U11: 0.144 | V11: 0.169 | W11: 7.2 | X11: 8.4 | Y11: 12
B12: OPRAWY PRZEMYSŁOWE | C12: PANELE LED | D12: Kobi Premium | E12: Panel LED DAVRO 40W UGR<19 60x60 4000K Kobi Premium | F12: 005427 | G12: Nowości | H12: 111.09 | I12: =$H12*(1-Rabat!$D$43) -> 111.09 | J12: nie dotyczy | K12: 5907178030400 | L12: szt | M12: 6 | N12: 72 | O12: 5 lat | P12: https://b2b.kobi.pl/pl/product/13881,panel-led-davro-40w-ugr-19-60x60-4000k-kobi-premium?currency=PLN | Q12: https://eprel.ec.europa.eu/qr/2858448 | R12: nowość | S12: 94054239 | T12: 1.18 | U12: 1.4 | V12: 1.7 | W12: 60.5 | X12: 65 | Y12: 3.2
B13: ŹRÓDŁA | C13: ŻARÓWKI LED | D13: Kobi | E13: Żarówka LED GU10 9W 900lm 6000K Kobi | F13: 005371 | G13: Żarówki LED | H13: 11.82 | I13: =$H13*(1-Rabat!$D$11) -> 11.82 | J13: E | K13: 5907178029954 | L13: szt | M13: 100 | O13: 2 lata | P13: https://b2b.kobi.pl/pl/product/13825,zarowka-led-gu10-9w-900lm-6000k-kobi?currency=PLN | Q13: https://eprel.ec.europa.eu/qr/2740174 | R13: nowość | S13: 85395200 | T13: 0.02 | U13: 0.022 | V13: 0.029 | W13: 5 | X13: 6.5 | Y13: 5
B14: ŹRÓDŁA | C14: ŻARÓWKI LED | D14: Kobi | E14: Żarówka LED GU10 9W 900lm 4000K Kobi | F14: 005370 | G14: Żarówki LED | H14: 11.82 | I14: =$H14*(1-Rabat!$D$11) -> 11.82 | J14: E | K14: 5907178029947 | L14: szt | M14: 100 | O14: 2 lata | P14: https://b2b.kobi.pl/pl/product/13824,zarowka-led-gu10-9w-900lm-4000k-kobi?currency=PLN | Q14: https://eprel.ec.europa.eu/qr/2740096 | R14: nowość | S14: 85395200 | T14: 0.02 | U14: 0.022 | V14: 0.029 | W14: 5 | X14: 6.5 | Y14: 5
B15: ŹRÓDŁA | C15: ŻARÓWKI LED | D15: Kobi | E15: Żarówka LED GU10 9W 900lm 3000K Kobi | F15: 005369 | G15: Żarówki LED | H15: 11.82 | I15: =$H15*(1-Rabat!$D$11) -> 11.82 | J15: E | K15: 5907178029930 | L15: szt | M15: 100 | O15: 2 lata | P15: https://b2b.kobi.pl/pl/product/13823,zarowka-led-gu10-9w-900lm-3000k-kobi?currency=PLN | Q15: https://eprel.ec.europa.eu/qr/2740045 | R15: nowość | S15: 85395200 | T15: 0.02 | U15: 0.022 | V15: 0.029 | W15: 5 | X15: 6.5 | Y15: 5
B16: OPRAWY PRZEMYSŁOWE | C16: SZYNOPRZEWÓD | D16: Kobi | E16: Szynoprzewód podtynkowy 3-obwodowy 2m biały Kobi | F16: 005330 | G16: Szynoprzewód i akcesoria | H16: 197.56 | I16: =$H16*(1-Rabat!$D$21) -> 197.56 | K16: 5907178028315 | L16: szt | M16: 5 | O16: 2 lata | P16: https://b2b.kobi.pl/pl/product/13784,szynoprzewod-podtynkowy-3-obwodowy-2m-bialy-kobi?currency=PLN | R16: nowość | S16: 85444995 | T16: 0 | U16: 1.73 | V16: 1.75 | W16: 200 | X16: 5.6 | Y16: 3.3
B17: OPRAWY PRZEMYSŁOWE | C17: SZYNOPRZEWÓD | D17: Kobi | E17: Szynoprzewód podtynkowy 3-obwodowy 2m czarny Kobi | F17: 005329 | G17: Szynoprzewód i akcesoria | H17: 197.56 | I17: =$H17*(1-Rabat!$D$21) -> 197.56 | K17: 5907178028308 | L17: szt | M17: 5 | O17: 2 lata | P17: https://b2b.kobi.pl/pl/product/13783,szynoprzewod-podtynkowy-3-obwodowy-2m-czarny-kobi?currency=PLN | R17: nowość | S17: 85444995 | T17: 0 | U17: 1.73 | V17: 1.75 | W17: 200 | X17: 5.6 | Y17: 3.3
B18: ŹRÓDŁA | C18: PASKI LED | D18: Kobi | E18: Profil KG02 podtynkowy czarny + przesłona czarna 1m Kobi | F18: 005328 | G18: Profile aluminiowe | H18: 20.17 | I18: =$H18 -> 20.17 | K18: 5907178028292 | L18: szt | M18: 50 | O18: 2 lata | P18: https://b2b.kobi.pl/pl/product/13782,profil-kg02-podtynkowy-czarny-przeslona-czarna-1m-kobi?currency=PLN | R18: nowość | S18: 94059900 | T18: 0 | U18: 0.188 | V18: 0.207 | W18: 108 | X18: 4 | Y18: 1.5
B19: ŹRÓDŁA | C19: PASKI LED | D19: Kobi | E19: Profil KG01 podtynkowy czarny + przesłona czarna 1m Kobi | F19: 005327 | G19: Profile aluminiowe | H19: 20.17 | I19: =$H19 -> 20.17 | K19: 5907178028285 | L19: szt | M19: 50 | O19: 2 lata | P19: https://b2b.kobi.pl/pl/product/13781,profil-kg01-podtynkowy-czarny-przeslona-czarna-1m-kobi?currency=PLN | R19: nowość | S19: 94059900 | T19: 0 | U19: 0.189 | V19: 0.208 | W19: 108 | X19: 4 | Y19: 1.3
B20: ŹRÓDŁA | C20: PASKI LED | D20: Kobi | E20: Profil N01 narożny czarny + przesłona czarna 1m Kobi | F20: 005326 | G20: Profile aluminiowe | H20: 12.97 | I20: =$H20 -> 12.97 | K20: 5907178028278 | L20: szt | M20: 50 | O20: 2 lata | P20: https://b2b.kobi.pl/pl/product/13780,profil-n01-narozny-czarny-przeslona-czarna-1m-kobi?currency=PLN | R20: nowość | S20: 94059900 | T20: 0 | U20: 0.123 | V20: 0.142 | W20: 108 | X20: 4 | Y20: 1.5
B21: ŹRÓDŁA | C21: PASKI LED | D21: Kobi | E21: Profil P02 podtynkowy czarny + przesłona czarna 1m Kobi | F21: 005325 | G21: Profile aluminiowe | H21: 9.72 | I21: =$H21 -> 9.72 | K21: 5907178028261 | L21: szt | M21: 50 | O21: 2 lata | P21: https://b2b.kobi.pl/pl/product/13779,profil-p02-podtynkowy-czarny-przeslona-czarna-1m-kobi?currency=PLN | R21: nowość | S21: 94059900 | T21: 0 | U21: 0.077 | V21: 0.096 | W21: 108 | X21: 4 | Y21: 0.6
B22: ŹRÓDŁA | C22: PASKI LED | D22: Kobi | E22: Profil P01 natynkowy czarny + przesłona czarna 1m Kobi | F22: 005324 | G22: Profile aluminiowe | H22: 9.53 | I22: =$H22 -> 9.53 | K22: 5907178028254 | L22: szt | M22: 50 | O22: 2 lata | P22: https://b2b.kobi.pl/pl/product/13778,profil-p01-natynkowy-czarny-przeslona-czarna-1m-kobi?currency=PLN | R22: nowość | S22: 94059900 | T22: 0 | U22: 0.089 | V22: 0.108 | W22: 108 | X22: 4 | Y22: 0.6
B23: ŹRÓDŁA | C23: PASKI LED | D23: Kobi | E23: Profil KG02 podtynkowy czarny + przesłona czarna 2m Kobi | F23: 005323 | G23: Profile aluminiowe | H23: 40.33 | I23: =$H23 -> 40.33 | K23: 5907178028247 | L23: szt | M23: 50 | O23: 2 lata | P23: https://b2b.kobi.pl/pl/product/13777,profil-kg02-podtynkowy-czarny-przeslona-czarna-2m-kobi?currency=PLN | R23: nowość | S23: 94059900 | T23: 0 | U23: 0.412 | V23: 0.45 | W23: 208 | X23: 4 | Y23: 1.5
B24: ŹRÓDŁA | C24: PASKI LED | D24: Kobi | E24: Profil KG01 podtynkowy czarny + przesłona czarna 2m Kobi | F24: 005322 | G24: Profile aluminiowe | H24: 40.33 | I24: =$H24 -> 40.33 | K24: 5907178028230 | L24: szt | M24: 50 | O24: 2 lata | P24: https://b2b.kobi.pl/pl/product/13776,profil-kg01-podtynkowy-czarny-przeslona-czarna-2m-kobi?currency=PLN | R24: nowość | S24: 94059900 | T24: 0 | U24: 0.405 | V24: 0.443 | W24: 208 | X24: 4 | Y24: 1.3
B25: ŹRÓDŁA | C25: PASKI LED | D25: Kobi | E25: Profil N01 narożny czarny + przesłona czarna 2m Kobi | F25: 005321 | G25: Profile aluminiowe | H25: 25.94 | I25: =$H25 -> 25.94 | K25: 5907178028223 | L25: szt | M25: 50 | O25: 2 lata | P25: https://b2b.kobi.pl/pl/product/13775,profil-n01-narozny-czarny-przeslona-czarna-2m-kobi?currency=PLN | R25: nowość | S25: 94059900 | T25: 0 | U25: 0.268 | V25: 0.306 | W25: 208 | X25: 4 | Y25: 1.5
B26: ŹRÓDŁA | C26: PASKI LED | D26: Kobi | E26: Profil P02 podtynkowy czarny + przesłona czarna 2m Kobi | F26: 005320 | G26: Profile aluminiowe | H26: 19.53 | I26: =$H26 -> 19.53 | K26: 5907178028216 | L26: szt | M26: 50 | O26: 2 lata | P26: https://b2b.kobi.pl/pl/product/13774,profil-p02-podtynkowy-czarny-przeslona-czarna-2m-kobi?currency=PLN | R26: nowość | S26: 94059900 | T26: 0 | U26: 0.174 | V26: 0.212 | W26: 208 | X26: 4 | Y26: 0.6
B27: ŹRÓDŁA | C27: PASKI LED | D27: Kobi | E27: Profil P01 natynkowy czarny + przesłona czarna 2m Kobi | F27: 005319 | G27: Profile aluminiowe | H27: 19.16 | I27: =$H27 -> 19.16 | K27: 5907178028209 | L27: szt | M27: 50 | O27: 2 lata | P27: https://b2b.kobi.pl/pl/product/13773,profil-p01-natynkowy-czarny-przeslona-czarna-2m-kobi?currency=PLN | R27: nowość | S27: 94059900 | T27: 0 | U27: 0.155 | V27: 0.193 | W27: 208 | X27: 4 | Y27: 0.6
B28: OSPRZĘT ELEKTROINSTALACYJNY | C28: AKCESORIA | D28: Kobi | E28: Moduł zasilacza wodoodporny 12V 80W 6,67A IP67 | F28: 005280 | G28: Akcesoria | H28: 184.5 | I28: =$H28*(1-Rabat!$D$38) -> 184.5 | J28: nie dotyczy | K28: 5902479642208 | L28: szt | M28: 1 | O28: 2 lata | P28: https://b2b.kobi.pl/pl/product/13734,modul-zasilacza-wodoodporny-12v-80w-6-67a-ip67?currency=PLN | Q28: https://eprel.ec.europa.eu/qr/nie dotyczy | S28: 85044095 | T28: 0 | U28: 0.81 | V28: 0.85 | W28: 4.5 | X28: 20 | Y28: 7.5
B29: OPRAWY DOMOWE | C29: LAMPY | D29: LED2B | E29: Lampa podłogowa LED TEILO 10W 3CCT biała LED2B | F29: 005232 | G29: Lampki biurkowe | H29: 172.97 | I29: =$H29*(1-Rabat!$D$34) -> 172.97 | J29: nie dotyczy | K29: 5907178026953 | L29: szt | M29: 8 | O29: 2 lata | P29: https://b2b.kobi.pl/pl/product/13685,lampa-podlogowa-led-teilo-10w-3cct-biala-led2b?currency=PLN | R29: nowość | S29: 94052190 | T29: 1.44 | U29: 1.7 | V29: 2.2 | W29: 42 | X29: 27 | Y29: 8
B30: OPRAWY PRZEMYSŁOWE | C30: PLAFONY | D30: Kobi | E30: Oprawa kanałowa SOMA PC 1xE27 60 siatka plastik czarna Kobi | F30: 005231 | G30: Oprawy techniczne | H30: 24.98 | I30: =$H30*(1-Rabat!$D$25) -> 24.98 | J30: nie dotyczy | K30: 5907178026946 | L30: szt | M30: 10 | N30: 400 | O30: 2 lata | P30: https://b2b.kobi.pl/pl/product/13684,oprawa-kanalowa-soma-pc-1xe27-60-siatka-plastik-czarna-kobi?currency=PLN | R30: nowość | S30: 94051940 | T30: 0.18 | U30: 0.47 | V30: 0.48 | W30: 19 | X30: 12.5 | Y30: 10.5
B31: OPRAWY PRZEMYSŁOWE | C31: PLAFONY | D31: Kobi | E31: Plafon RUTO 1xE27 czarny szkło Kobi | F31: 005229 | G31: Oprawy techniczne | H31: 44.75 | I31: =$H31*(1-Rabat!$D$25) -> 44.75 | J31: nie dotyczy | K31: 5907178026939 | L31: szt | M31: 8 | N31: 184 | O31: 2 lata | P31: https://b2b.kobi.pl/pl/product/13682,plafon-ruto-1xe27-czarny-szklo-kobi?currency=PLN | R31: nowość | S31: 94051940 | T31: 0.41 | U31: 1.05 | V31: 1.06 | W31: 10 | X31: 22 | Y31: 22
B32: OPRAWY DOMOWE | C32: WZROST ROŚLIN | D32: Kobi Design | E32: Przewód łączeniowy do GROWLY 15W 1m Kobi Design | F32: 005223 | G32: Wzrost roślin | H32: 8.75 | I32: =$H32*(1-Rabat!$D$33) -> 8.75 | K32: 5907178026922 | L32: szt | M32: 500 | O32: 2 lata | P32: https://b2b.kobi.pl/pl/product/13676,przewod-laczeniowy-do-growly-15w-1m-kobi-design?currency=PLN | R32: nowość | S32: 91070000 | T32: 0 | U32: 0.033 | V32: 0.033 | W32: 0 | X32: 0 | Y32: 0
B33: OPRAWY DOMOWE | C33: WZROST ROŚLIN | D33: Kobi Design | E33: Przewód łączeniowy do GROWLY 15W 0,6m Kobi Design | F33: 005222 | G33: Wzrost roślin | H33: 6.25 | I33: =$H33*(1-Rabat!$D$33) -> 6.25 | K33: 5907178026915 | L33: szt | M33: 600 | O33: 2 lata | P33: https://b2b.kobi.pl/pl/product/13675,przewod-laczeniowy-do-growly-15w-0-6m-kobi-design?currency=PLN | R33: nowość | S33: 91070000 | T33: 0 | U33: 0.022 | V33: 0.022 | W33: 0 | X33: 0 | Y33: 0
B34: OSPRZĘT ELEKTROINSTALACYJNY | C34: AKCESORIA | D34: Kobi | E34: Moduł zasilacza montażowy 24V 60W 2,50A | F34: 005210 | G34: Akcesoria | H34: 59.9 | I34: =$H34*(1-Rabat!$D$38) -> 59.9 | J34: nie dotyczy | K34: 5902479642147 | L34: szt | M34: 1 | O34: 2 lata | P34: https://b2b.kobi.pl/pl/product/13663,modul-zasilacza-montazowy-24v-60w-2-50a?currency=PLN | Q34: https://eprel.ec.europa.eu/qr/nie dotyczy | S34: 85044095 | T34: 0 | U34: 0.18 | V34: 0.2 | W34: 11.5 | X34: 8.5 | Y34: 3.2
B35: OSPRZĘT ELEKTROINSTALACYJNY | C35: AKCESORIA | D35: Kobi | E35: Moduł zasilacza montażowy 24V 150W 6,25A | F35: 005209 | G35: Akcesoria | H35: 120.01 | I35: =$H35*(1-Rabat!$D$38) -> 120.01 | J35: nie dotyczy | K35: 5902479642161 | L35: szt | M35: 1 | O35: 2 lata | P35: https://b2b.kobi.pl/pl/product/13662,modul-zasilacza-montazowy-24v-150w-6-25a?currency=PLN | Q35: https://eprel.ec.europa.eu/qr/nie dotyczy | S35: 85044095 | T35: 0 | U35: 0.3 | V35: 0.32 | W35: 13.5 | X35: 10 | Y35: 4
B36: OSPRZĘT ELEKTROINSTALACYJNY | C36: AKCESORIA | D36: Kobi | E36: Moduł zasilacza montażowy 24V 200W 8.30A | F36: 005208 | G36: Akcesoria | H36: 157.66 | I36: =$H36*(1-Rabat!$D$38) -> 157.66 | J36: nie dotyczy | K36: 5902479641959 | L36: szt | M36: 1 | O36: 2 lata | P36: https://b2b.kobi.pl/pl/product/13661,modul-zasilacza-montazowy-24v-200w-8-30a?currency=PLN | Q36: https://eprel.ec.europa.eu/qr/nie dotyczy | S36: 85044095 | T36: 0 | U36: 0.45 | V36: 0.48 | W36: 16.5 | X36: 10.5 | Y36: 4.7
B37: OPRAWY PRZEMYSŁOWE | C37: LINIOWE LED | D37: Kobi Professional | E37: Oprawa LED NEXFORCE N2 max. 70W 4000K Kobi Pro | F37: 005191 | G37: Liniowe LED | H37: 322.22 | I37: =$H37*(1-Rabat!$D$17) -> 322.22 | J37: nie dotyczy | K37: 5907178026687 | L37: szt | M37: 9 | O37: 5 lat | P37: https://b2b.kobi.pl/pl/product/13644,oprawa-led-nexforce-n2-70w-4000k-kobi-pro?currency=PLN | Q37: https://eprel.ec.europa.eu/qr/2082512 | R37: nowość | S37: 94051140 | T37: 1.38 | U37: 1.63 | V37: 1.95 | W37: 153 | X37: 8.5 | Y37: 8.3
B38: OSPRZĘT ELEKTROINSTALACYJNY | C38: AKCESORIA | D38: Kobi | E38: Moduł zasilacza wodoodporny 24V 30W 1.25A IP67 | F38: 005148 | G38: Akcesoria | H38: 68.16 | I38: =$H38*(1-Rabat!$D$38) -> 68.16 | J38: nie dotyczy | K38: 5902479642222 | L38: szt | M38: 1 | O38: 2 lata | P38: https://b2b.kobi.pl/pl/product/13601,modul-zasilacza-wodoodporny-24v-30w-1-25a-ip67?currency=PLN | Q38: https://eprel.ec.europa.eu/qr/nie dotyczy | S38: 85044095 | T38: 0 | U38: 0.14 | V38: 0.15 | W38: 15.5 | X38: 4.1 | Y38: 2.7
B39: OSPRZĘT ELEKTROINSTALACYJNY | C39: AKCESORIA | D39: Kobi | E39: Moduł zasilacza montażowy 24V 250W 10,40A | F39: 005147 | G39: Akcesoria | H39: 178.12 | I39: =$H39*(1-Rabat!$D$38) -> 178.12 | J39: nie dotyczy | K39: 5902479642178 | L39: szt | M39: 1 | O39: 2 lata | P39: https://b2b.kobi.pl/pl/product/13600,modul-zasilacza-montazowy-24v-250w-10-40a?currency=PLN | Q39: https://eprel.ec.europa.eu/qr/nie dotyczy | S39: 85044095 | T39: 0 | U39: 0.45 | V39: 0.48 | W39: 16.5 | X39: 10.5 | Y39: 4.7
B40: OSPRZĘT ELEKTROINSTALACYJNY | C40: AKCESORIA | D40: Kobi | E40: Zasilacz desktop 12V 24W 2,0A wtyk DC 2,1x5,5 | F40: 005116 | G40: Akcesoria | H40: 52 | I40: =$H40*(1-Rabat!$D$38) -> 52 | J40: nie dotyczy | K40: 5902479642253 | L40: szt | M40: 1 | O40: 2 lata | Q40: https://eprel.ec.europa.eu/qr/nie dotyczy | S40: 85044095 | T40: 0 | U40: 0.18 | V40: 0.25 | W40: 0 | X40: 0 | Y40: 0
B41: OSPRZĘT ELEKTROINSTALACYJNY | C41: AKCESORIA | D41: Kobi | E41: Moduł zasilacza wodoodporny 24V 60W 2.50A IP67 | F41: 005108 | G41: Akcesoria | H41: 120.77 | I41: =$H41*(1-Rabat!$D$38) -> 120.77 | J41: nie dotyczy | K41: 5902479642239 | L41: szt | M41: 1 | O41: 2 lata | P41: https://b2b.kobi.pl/pl/product/13561,modul-zasilacza-wodoodporny-24v-60w-2-50a-ip67?currency=PLN | Q41: https://eprel.ec.europa.eu/qr/nie dotyczy | S41: 85044095 | T41: 0 | U41: 0.25 | V41: 0.26 | W41: 16.5 | X41: 6.8 | Y41: 2.2
B42: OSPRZĘT ELEKTROINSTALACYJNY | C42: AKCESORIA | D42: Kobi | E42: Moduł zasilacza montażowy 24V 100W 4,16A | F42: 005107 | G42: Akcesoria | H42: 96.12 | I42: =$H42*(1-Rabat!$D$38) -> 96.12 | J42: nie dotyczy | K42: 5902479642154 | L42: szt | M42: 1 | O42: 2 lata | P42: https://b2b.kobi.pl/pl/product/13560,modul-zasilacza-montazowy-24v-100w-4-16a?currency=PLN | Q42: https://eprel.ec.europa.eu/qr/nie dotyczy | S42: 85044095 | T42: 0 | U42: 0.19 | V42: 0.21 | W42: 11.5 | X42: 8.5 | Y42: 3.5
B43: OSPRZĘT ELEKTROINSTALACYJNY | C43: AKCESORIA | D43: Kobi | E43: Moduł zasilacza montażowy 12V 200W 16,6A | F43: 005106 | G43: Akcesoria | H43: 179 | I43: =$H43*(1-Rabat!$D$38) -> 179 | J43: nie dotyczy | K43: 5902479642017 | L43: szt | M43: 1 | O43: 2 lata | P43: https://b2b.kobi.pl/pl/product/13559,modul-zasilacza-montazowy-12v-200w-16-6a?currency=PLN | Q43: https://eprel.ec.europa.eu/qr/nie dotyczy | S43: 85044095 | T43: 0 | U43: 0.46 | V43: 0.5 | W43: 5 | X43: 8.5 | Y43: 15
B44: ŹRÓDŁA | C44: PASKI LED | D44: Kobi | E44: Profil KG03 podtynkowy anodowany srebrny + przesłona mleczna 2m Kobi | F44: 005102 | G44: Profile aluminiowe | H44: 44.32 | I44: =$H44 -> 44.32 | K44: 5907178026090 | L44: szt | M44: 50 | O44: 2 lata | P44: https://b2b.kobi.pl/pl/product/13555,profil-kg03-podtynkowy-anodowany-srebrny-przeslona-mleczna-2m-kobi?currency=PLN | R44: nowość | S44: 94059900 | T44: 0 | U44: 0.454 | V44: 0.492 | W44: 208 | X44: 4 | Y44: 1.5
B45: ŹRÓDŁA | C45: PASKI LED | D45: Kobi | E45: Profil KG02 podtynkowy biały + przesłona mleczna 2m Kobi | F45: 005101 | G45: Profile aluminiowe | H45: 40.33 | I45: =$H45 -> 40.33 | K45: 5907178026083 | L45: szt | M45: 50 | O45: 2 lata | P45: https://b2b.kobi.pl/pl/product/13554,profil-kg02-podtynkowy-bialy-przeslona-mleczna-2m-kobi?currency=PLN | R45: nowość | S45: 94059900 | T45: 0 | U45: 0.409 | V45: 0.447 | W45: 208 | X45: 4 | Y45: 1.5
B46: ŹRÓDŁA | C46: PASKI LED | D46: Kobi | E46: Profil KG02 podtynkowy czarny + przesłona mleczna 2m Kobi | F46: 005100 | G46: Profile aluminiowe | H46: 40.33 | I46: =$H46 -> 40.33 | K46: 5907178026076 | L46: szt | M46: 50 | O46: 2 lata | P46: https://b2b.kobi.pl/pl/product/13553,profil-kg02-podtynkowy-czarny-przeslona-mleczna-2m-kobi?currency=PLN | R46: nowość | S46: 94059900 | T46: 0 | U46: 0.412 | V46: 0.45 | W46: 208 | X46: 4 | Y46: 1.5
B47: ŹRÓDŁA | C47: PASKI LED | D47: Kobi | E47: Profil KG02 podtynkowy anodowany srebrny + przesłona mleczna 2m Kobi | F47: 005099 | G47: Profile aluminiowe | H47: 39.28 | I47: =$H47 -> 39.28 | K47: 5907178026069 | L47: szt | M47: 50 | O47: 2 lata | P47: https://b2b.kobi.pl/pl/product/13552,profil-kg02-podtynkowy-anodowany-srebrny-przeslona-mleczna-2m-kobi?currency=PLN | R47: nowość | S47: 94059900 | T47: 0 | U47: 0.396 | V47: 0.434 | W47: 208 | X47: 4 | Y47: 1.5
B48: ŹRÓDŁA | C48: PASKI LED | D48: Kobi | E48: Profil KG01 podtynkowy biały + przesłona mleczna 2m Kobi | F48: 005098 | G48: Profile aluminiowe | H48: 40.33 | I48: =$H48 -> 40.33 | K48: 5907178026052 | L48: szt | M48: 50 | O48: 2 lata | P48: https://b2b.kobi.pl/pl/product/13551,profil-kg01-podtynkowy-bialy-przeslona-mleczna-2m-kobi?currency=PLN | R48: nowość | S48: 94059900 | T48: 0 | U48: 0.405 | V48: 0.443 | W48: 208 | X48: 4 | Y48: 1.3
B49: ŹRÓDŁA | C49: PASKI LED | D49: Kobi | E49: Profil KG01 podtynkowy czarny + przesłona mleczna 2m Kobi | F49: 005097 | G49: Profile aluminiowe | H49: 40.33 | I49: =$H49 -> 40.33 | K49: 5907178026045 | L49: szt | M49: 50 | O49: 2 lata | P49: https://b2b.kobi.pl/pl/product/13550,profil-kg01-podtynkowy-czarny-przeslona-mleczna-2m-kobi?currency=PLN | R49: nowość | S49: 94059900 | T49: 0 | U49: 0.387 | V49: 0.425 | W49: 208 | X49: 4 | Y49: 1.3
B50: ŹRÓDŁA | C50: PASKI LED | D50: Kobi | E50: Profil KG02 podtynkowy biały + przesłona mleczna 1m Kobi | F50: 005096 | G50: Profile aluminiowe | H50: 20.17 | I50: =$H50 -> 20.17 | K50: 5907178026038 | L50: szt | M50: 50 | O50: 2 lata | P50: https://b2b.kobi.pl/pl/product/13549,profil-kg02-podtynkowy-bialy-przeslona-mleczna-1m-kobi?currency=PLN | R50: nowość | S50: 94059900 | T50: 0 | U50: 0.196 | V50: 0.215 | W50: 108 | X50: 4 | Y50: 1.5
B51: ŹRÓDŁA | C51: PASKI LED | D51: Kobi | E51: Profil KG02 podtynkowy czarny + przesłona mleczna 1m Kobi | F51: 005095 | G51: Profile aluminiowe | H51: 20.17 | I51: =$H51 -> 20.17 | K51: 5907178026021 | L51: szt | M51: 50 | O51: 2 lata | P51: https://b2b.kobi.pl/pl/product/13548,profil-kg02-podtynkowy-czarny-przeslona-mleczna-1m-kobi?currency=PLN | R51: nowość | S51: 94059900 | T51: 0 | U51: 0.188 | V51: 0.207 | W51: 108 | X51: 4 | Y51: 1.5
B52: ŹRÓDŁA | C52: PASKI LED | D52: Kobi | E52: Profil KG02 podtynkowy anodowany srebrny + przesłona mleczna 1m Kobi | F52: 005094 | G52: Profile aluminiowe | H52: 19.62 | I52: =$H52 -> 19.62 | K52: 5907178026014 | L52: szt | M52: 50 | O52: 2 lata | P52: https://b2b.kobi.pl/pl/product/13547,profil-kg02-podtynkowy-anodowany-srebrny-przeslona-mleczna-1m-kobi?currency=PLN | R52: nowość | S52: 94059900 | T52: 0 | U52: 0.188 | V52: 0.207 | W52: 108 | X52: 4 | Y52: 1.5
B53: ŹRÓDŁA | C53: PASKI LED | D53: Kobi | E53: Profil KG01 podtynkowy biały + przesłona mleczna 1m Kobi | F53: 005093 | G53: Profile aluminiowe | H53: 20.17 | I53: =$H53 -> 20.17 | K53: 5907178026007 | L53: szt | M53: 50 | O53: 2 lata | P53: https://b2b.kobi.pl/pl/product/13546,profil-kg01-podtynkowy-bialy-przeslona-mleczna-1m-kobi?currency=PLN | R53: nowość | S53: 94059900 | T53: 0 | U53: 0.196 | V53: 0.215 | W53: 108 | X53: 4 | Y53: 1.3
B54: ŹRÓDŁA | C54: PASKI LED | D54: Kobi | E54: Profil KG01 podtynkowy czarny + przesłona mleczna 1m Kobi | F54: 005092 | G54: Profile aluminiowe | H54: 20.17 | I54: =$H54 -> 20.17 | K54: 5907178025994 | L54: szt | M54: 50 | O54: 2 lata | P54: https://b2b.kobi.pl/pl/product/13545,profil-kg01-podtynkowy-czarny-przeslona-mleczna-1m-kobi?currency=PLN | R54: nowość | S54: 94059900 | T54: 0 | U54: 0.189 | V54: 0.208 | W54: 108 | X54: 4 | Y54: 1.3
B55: ŹRÓDŁA | C55: PASKI LED | D55: Kobi | E55: Profil KG01 podtynkowy anodowany srebrny + przesłona mleczna 1m Kobi | F55: 005091 | G55: Profile aluminiowe | H55: 19.62 | I55: =$H55 -> 19.62 | K55: 5907178025987 | L55: szt | M55: 50 | O55: 2 lata | P55: https://b2b.kobi.pl/pl/product/13544,profil-kg01-podtynkowy-anodowany-srebrny-przeslona-mleczna-1m-kobi?currency=PLN | R55: nowość | S55: 94059900 | T55: 0 | U55: 0.187 | V55: 0.206 | W55: 108 | X55: 4 | Y55: 1.3
... B64: ŹRÓDŁA | C64: PASKI LED | D64: Kobi | E64: Profil P01 natynkowy anodowany srebrny + przesłona mleczna 1m Kobi | F64: 005082 | G64: Profile aluminiowe | H64: 9.17 | I64: =$H64 -> 9.17 | K64: 5907178025895 | L64: szt | M64: 50 | O64: 2 lata | P64: https://b2b.kobi.pl/pl/product/13535,profil-p01-natynkowy-anodowany-srebrny-przeslona-mleczna-1m-kobi?currency=PLN | R64: nowość | S64: 94059900 | T64: 0 | U64: 0.09 | V64: 0.109 | W64: 108 | X64: 4 | Y64: 0.6
B65: OPRAWY PRZEMYSŁOWE | C65: PANELE LED | D65: Kobi | E65: Ramka 65mm do panelu LED 60x60 Kobi | F65: 005074 | G65: Panele | H65: 49 | I65: =$H65*(1-Rabat!$D$13) -> 49 | J65: nie dotyczy | K65: 5907178025277 | L65: szt | M65: 12 | N65: 360 | O65: 2 lata | P65: https://b2b.kobi.pl/pl/product/13526,ramka-65mm-do-panelu-led-60x60-kobi?currency=PLN | R65: nowość | S65: 94059900 | T65: 0 | U65: 1.058 | V65: 1.07 | W65: 61.2 | X65: 6.6 | Y65: 6.8
B66: OPRAWY PRZEMYSŁOWE | C66: LINIOWE LED | D66: Kobi Professional | E66: Oprawa liniowa LED DELFIA max. 40W 3CCT Kobi Pro | F66: 005073 | G66: Liniowe LED | H66: 160 | I66: =$H66*(1-Rabat!$D$17) -> 160 | J66: nie dotyczy | K66: 5907178025017 | L66: szt | M66: 4 | N66: 108 | O66: 5 lat | P66: https://b2b.kobi.pl/pl/product/13525,oprawa-liniowa-led-delfia-max-40w-3cct-kobi-pro?currency=PLN | Q66: https://eprel.ec.europa.eu/qr/2735882 | R66: nowość | S66: 94051140 | T66: 0 | U66: 1 | V66: 1.2 | W66: 126.7 | X66: 12.8 | Y66: 6.8
B67: ŹRÓDŁA | C67: AKCESORIA | E67: Łącznik L taśmy LED COB RGB 10mm 4-Pin Kobi | F67: 005070 | G67: Akcesoria | H67: 6.75 | I67: =$H67*(1-Rabat!$D$38) -> 6.75 | J67: nie dotyczy | K67: 5907178025253 | L67: szt | M67: 10 | O67: 2 lata | P67: https://b2b.kobi.pl/pl/product/13522,lacznik-l-tasmy-led-cob-10mm-kobi?currency=PLN | R67: nowość | S67: 85366990 | T67: 0 | U67: 0.0016 | V67: 0.00175 | W67: 8 | X67: 12 | Y67: 0.5
B68: ŹRÓDŁA | C68: AKCESORIA | E68: Łącznik I taśmy LED COB RGB 10mm 4-Pin Kobi | F68: 005069 | G68: Akcesoria | H68: 3 | I68: =$H68*(1-Rabat!$D$38) -> 3 | J68: nie dotyczy | K68: 5907178025246 | L68: szt | M68: 10 | O68: 2 lata | P68: https://b2b.kobi.pl/pl/product/13521,lacznik-i-tasmy-led-cob-10mm-kobi?currency=PLN | R68: nowość | S68: 85366990 | T68: 0 | U68: 0.0009 | V68: 0.00105 | W68: 8 | X68: 12 | Y68: 0.5
B69: ŹRÓDŁA | C69: AKCESORIA | D69: Kobi | E69: Łącznik dwustronny 10 cm taśmy LED COB RGB 10mm 4-Pin Kobi | F69: 005068 | G69: Akcesoria | H69: 6.25 | I69: =$H69*(1-Rabat!$D$38) -> 6.25 | J69: nie dotyczy | K69: 5907178025239 | L69: szt | M69: 10 | O69: 2 lata | P69: https://b2b.kobi.pl/pl/product/13520,lacznik-dwustronny-10-cm-tasmy-led-cob-10mm-kobi?currency=PLN | R69: nowość | S69: 85366990 | T69: 0 | U69: 0.0047 | V69: 0.0049 | W69: 8 | X69: 12 | Y69: 0.5
B70: ŹRÓDŁA | C70: AKCESORIA | D70: Kobi | E70: Łącznik 10 cm taśmy LED COB RGB 10mm 4-Pin Kobi | F70: 005067 | G70: Akcesoria | H70: 4.25 | I70: =$H70*(1-Rabat!$D$38) -> 4.25 | J70: nie dotyczy | K70: 5907178025222 | L70: szt | M70: 10 | O70: 2 lata | P70: https://b2b.kobi.pl/pl/product/13519,lacznik-10-cm-tasmy-led-cob-10mm-kobi?currency=PLN | R70: nowość | S70: 85366990 | T70: 0 | U70: 0.0035 | V70: 0.0036 | W70: 8 | X70: 12 | Y70: 0.5
B71: ŹRÓDŁA | C71: AKCESORIA | E71: Naścienny panel sterujący 4 strefowy RGB/RGBCCT/CCT MIBOXER B4-B | F71: 005066 | G71: Akcesoria | H71: 143.08 | I71: =$H71*(1-Rabat!$D$38) -> 143.08 | K71: 5907178025215 | L71: szt | M71: 100 | P71: https://b2b.kobi.pl/pl/product/13518,nascienny-panel-sterujacy-4-strefowy-rgb-rgbcct-cct-miboxer-b4-b?currency=PLN | R71: nowość | S71: 85371098 | T71: 0.05 | U71: 0.14 | V71: 0.145 | W71: 10.2 | X71: 10.2 | Y71: 2.5
B72: ŹRÓDŁA | C72: AKCESORIA | E72: Naścienny panel sterujący 4 strefowy RGB/RGBCCT/CCT MIBOXER B4 | F72: 005065 | G72: Akcesoria | H72: 143.08 | I72: =$H72*(1-Rabat!$D$38) -> 143.08 | K72: 5907178025208 | L72: szt | M72: 100 | P72: https://b2b.kobi.pl/pl/product/13517,nascienny-panel-sterujacy-4-strefowy-rgb-rgbcct-cct-miboxer-b4?currency=PLN | R72: nowość | S72: 85371098 | T72: 0.05 | U72: 0.14 | V72: 0.145 | W72: 10.2 | X72: 10.2 | Y72: 2.5
B73: ŹRÓDŁA | C73: AKCESORIA | E73: Pilot 4 strefowy do taśm COB MONO+CCT MIBOXER FUT006 | F73: 005064 | G73: Akcesoria | H73: 52.04 | I73: =$H73*(1-Rabat!$D$38) -> 52.04 | K73: 5907178025192 | L73: szt | M73: 200 | P73: https://b2b.kobi.pl/pl/product/13516,pilot-4-strefowy-do-tasm-cob-mono-cct-miboxer-fut006?currency=PLN | R73: nowość | S73: 85371098 | T73: 0.02 | U73: 0.059 | V73: 0.0615 | W73: 11.5 | X73: 5.7 | Y73: 2.7
B74: ŹRÓDŁA | C74: AKCESORIA | E74: Pilot 4 strefowy do taśm COB RGB+CCT MIBOXER FUT092 | F74: 005063 | G74: Akcesoria | H74: 93.33 | I74: =$H74*(1-Rabat!$D$38) -> 93.33 | K74: 5907178025185 | L74: szt | M74: 200 | P74: https://b2b.kobi.pl/pl/product/13515,pilot-4-strefowy-do-tasm-cob-rgb-cct-miboxer-fut092?currency=PLN | R74: nowość | S74: 85371098 | T74: 0.03 | U74: 0.08 | V74: 0.082 | W74: 14 | X74: 5.8 | Y74: 2.2
B75: ŹRÓDŁA | C75: AKCESORIA | E75: Sterownik do taśm LED COB 12-24V WIFI MIBOXER SW5 | F75: 005062 | G75: Akcesoria | H75: 146.33 | I75: =$H75*(1-Rabat!$D$38) -> 146.33 | K75: 5907178025178 | L75: szt | M75: 200 | P75: https://b2b.kobi.pl/pl/product/13514,sterownik-do-tasm-led-cob-12-24v-wifi-miboxer-sw5?currency=PLN | R75: nowość | S75: 85371098 | T75: 0.02 | U75: 0.043 | V75: 0.049 | W75: 7.6 | X75: 3.7 | Y75: 2.4
B76: ŹRÓDŁA | C76: AKCESORIA | E76: Sterownik do taśm LED COB 12-24V MIBOXER SR5 | F76: 005061 | G76: Akcesoria | H76: 59.67 | I76: =$H76*(1-Rabat!$D$38) -> 59.67 | K76: 5907178025161 | L76: szt | M76: 200 | P76: https://b2b.kobi.pl/pl/product/13513,sterownik-do-tasm-led-cob-12-24v-miboxer-sr5?currency=PLN | R76: nowość | S76: 85371098 | T76: 0.02 | U76: 0.041 | V76: 0.044 | W76: 7.6 | X76: 3.7 | Y76: 2.4
B77: ŹRÓDŁA | C77: PASKI LED | D77: Kobi Premium | E77: Taśma LED TRAMO 320 COB 25m 6500K 24V IP65 Kobi Premium | F77: 005060 | G77: Taśmy LED | H77: 372.5 | I77: =$H77*(1-Rabat!$D$10) -> 372.5 | J77: F | K77: 5907178025154 | L77: szt | M77: 10 | O77: 3 lata | P77: https://b2b.kobi.pl/pl/product/13512,tasma-led-tramo-320-cob-25m-6500k-24v-ip65-kobi-premium?currency=PLN | R77: nowość | S77: 94054231 | T77: 0.46 | U77: 0.55 | V77: 0.6 | W77: 32 | X77: 32 | Y77: 1
B78: ŹRÓDŁA | C78: PASKI LED | D78: Kobi Premium | E78: Taśma LED TRAMO 320 COB 25m 4000K 24V IP65 Kobi Premium | F78: 005059 | G78: Taśmy LED | H78: 372.5 | I78: =$H78*(1-Rabat!$D$10) -> 372.5 | J78: F | K78: 5907178025147 | L78: szt | M78: 10 | O78: 3 lata | P78: https://b2b.kobi.pl/pl/product/13511,tasma-led-tramo-320-cob-25m-4000k-24v-ip65-kobi-premium?currency=PLN | R78: nowość | S78: 94054231 | T78: 0.46 | U78: 0.55 | V78: 0.6 | W78: 32 | X78: 32 | Y78: 1
B79: ŹRÓDŁA | C79: PASKI LED | D79: Kobi Premium | E79: Taśma LED TRAMO 320 COB 25m 3000K 24V IP65 Kobi Premium | F79: 005058 | G79: Taśmy LED | H79: 372.5 | I79: =$H79*(1-Rabat!$D$10) -> 372.5 | J79: G | K79: 5907178025130 | L79: szt | M79: 10 | O79: 3 lata | P79: https://b2b.kobi.pl/pl/product/13510,tasma-led-tramo-320-cob-25m-3000k-24v-ip65-kobi-premium?currency=PLN | R79: nowość | S79: 94054231 | T79: 0.46 | U79: 0.55 | V79: 0.6 | W79: 32 | X79: 32 | Y79: 1
B80: ŹRÓDŁA | C80: PASKI LED | D80: Kobi Premium | E80: Taśma LED TRAMO 840 COB 5m RGB 3CCT 24V IP65 Kobi Premium | F80: 005057 | G80: Taśmy LED | H80: 287.5 | I80: =$H80*(1-Rabat!$D$10) -> 287.5 | J80: G | K80: 5907178025123 | L80: szt | M80: 50 | O80: 3 lata | P80: https://b2b.kobi.pl/pl/product/13509,tasma-led-tramo-840-cob-5m-rgb-3cct-24v-ip65-kobi-premium?currency=PLN | R80: nowość | S80: 94054231 | T80: 0.13 | U80: 0.15 | V80: 0.25 | W80: 23 | X80: 21 | Y80: 1
B81: ŹRÓDŁA | C81: PASKI LED | D81: Kobi Premium | E81: Taśma LED TRAMO 840 COB 5m RGB 3CCT 24V IP20 Kobi Premium | F81: 005056 | G81: Taśmy LED | H81: 262.5 | I81: =$H81*(1-Rabat!$D$10) -> 262.5 | J81: G | K81: 5907178025116 | L81: szt | M81: 50 | O81: 3 lata | P81: https://b2b.kobi.pl/pl/product/13508,tasma-led-tramo-840-cob-5m-rgb-3cct-24v-ip20-kobi-premium?currency=PLN | R81: nowość | S81: 94054231 | T81: 0.13 | U81: 0.15 | V81: 0.25 | W81: 23 | X81: 21 | Y81: 1
B82: ŹRÓDŁA | C82: PASKI LED | D82: Kobi Premium | E82: Taśma LED TRAMO 672 COB 5m RGB 24V IP65 Kobi Premium | F82: 005055 | G82: Taśmy LED | H82: 144.75 | I82: =$H82*(1-Rabat!$D$10) -> 144.75 | J82: nie dotyczy | K82: 5907178025109 | L82: szt | M82: 50 | O82: 3 lata | P82: https://b2b.kobi.pl/pl/product/13507,tasma-led-tramo-672-cob-5m-rgb-24v-ip65-kobi-premium?currency=PLN | R82: nowość | S82: 94054231 | T82: 0.13 | U82: 0.15 | V82: 0.25 | W82: 23 | X82: 21 | Y82: 1
B83: ŹRÓDŁA | C83: PASKI LED | D83: Kobi Premium | E83: Taśma LED TRAMO 672 COB 5m RGB 24V IP20 Kobi Premium | F83: 005054 | G83: Taśmy LED | H83: 119.75 | I83: =$H83*(1-Rabat!$D$10) -> 119.75 | J83: nie dotyczy | K83: 5907178025093 | L83: szt | M83: 50 | O83: 3 lata | P83: https://b2b.kobi.pl/pl/product/13506,tasma-led-tramo-672-cob-5m-rgb-24v-ip20-kobi-premium?currency=PLN | R83: nowość | S83: 94054231 | T83: 0.08 | U83: 0.1 | V83: 0.2 | W83: 23 | X83: 21 | Y83: 1
B84: ŹRÓDŁA | C84: PASKI LED | D84: Kobi Premium | E84: Taśma LED TRAMO 608 COB 5m 3CCT 24V IP65 Kobi Premium | F84: 005053 | G84: Taśmy LED | H84: 124.75 | I84: =$H84*(1-Rabat!$D$10) -> 124.75 | J84: E | K84: 5907178025086 | L84: szt | M84: 50 | O84: 3 lata | P84: https://b2b.kobi.pl/pl/product/13505,tasma-led-tramo-608-cob-5m-3cct-24v-ip65-kobi-premium?currency=PLN | R84: nowość | S84: 94054231 | T84: 0.13 | U84: 0.15 | V84: 0.25 | W84: 23 | X84: 21 | Y84: 1
B85: ŹRÓDŁA | C85: PASKI LED | D85: Kobi Premium | E85: Taśma LED TRAMO 608 COB 5m 3CCT 24V IP20 Kobi Premium | F85: 005052 | G85: Taśmy LED | H85: 99.75 | I85: =$H85*(1-Rabat!$D$10) -> 99.75 | J85: E | K85: 5907178025079 | L85: szt | M85: 50 | O85: 3 lata | P85: https://b2b.kobi.pl/pl/product/13504,tasma-led-tramo-608-cob-5m-3cct-24v-ip20-kobi-premium?currency=PLN | R85: nowość | S85: 94054231 | T85: 0.08 | U85: 0.1 | V85: 0.2 | W85: 23 | X85: 21 | Y85: 1
B86: ŹRÓDŁA | C86: PASKI LED | D86: Kobi Premium | E86: Taśma LED TRAMO 320 COB AMBIENT 5m 6500K 24V IP65 Kobi Premium | F86: 005051 | G86: Taśmy LED | H86: 69.75 | I86: =$H86*(1-Rabat!$D$10) -> 69.75 | J86: F | K86: 5907178025062 | L86: szt | M86: 50 | O86: 3 lata | P86: https://b2b.kobi.pl/pl/product/13503,tasma-led-tramo-320-cob-ambient-5m-6500k-24v-ip65-kobi-premium?currency=PLN | R86: nowość | S86: 94054231 | T86: 0.13 | U86: 0.15 | V86: 0.25 | W86: 23 | X86: 21 | Y86: 1
B87: ŹRÓDŁA | C87: PASKI LED | D87: Kobi Premium | E87: Taśma LED TRAMO 320 COB AMBIENT 5m 3000K 24V IP20 Kobi Premium | F87: 005050 | G87: Taśmy LED | H87: 44.75 | I87: =$H87*(1-Rabat!$D$10) -> 44.75 | J87: F | K87: 5907178025260 | L87: szt | M87: 50 | O87: 3 lata | P87: https://b2b.kobi.pl/pl/product/13502,tasma-led-tramo-320-cob-ambient-5m-3000k-24v-ip20-kobi-premium?currency=PLN | R87: nowość | S87: 94054231 | T87: 0.13 | U87: 0.15 | V87: 0.25 | W87: 23 | X87: 21 | Y87: 1
B88: ŹRÓDŁA | C88: PASKI LED | D88: Kobi Premium | E88: Taśma LED TRAMO 320 COB AMBIENT 5m 4000K 24V IP65 Kobi Premium | F88: 005049 | G88: Taśmy LED | H88: 69.75 | I88: =$H88*(1-Rabat!$D$10) -> 69.75 | J88: F | K88: 5907178025055 | L88: szt | M88: 50 | O88: 3 lata | P88: https://b2b.kobi.pl/pl/product/13501,tasma-led-tramo-320-cob-ambient-5m-4000k-24v-ip65-kobi-premium?currency=PLN | R88: nowość | S88: 94054231 | T88: 0.13 | U88: 0.15 | V88: 0.25 | W88: 23 | X88: 21 | Y88: 1
... B91: ŹRÓDŁA | C91: PASKI LED | D91: Kobi Premium | E91: Taśma LED TRAMO 320 COB AMBIENT 5m 4000K 24V IP20 Kobi Premium | F91: 005046 | G91: Taśmy LED | H91: 44.75 | I91: =$H91*(1-Rabat!$D$10) -> 44.75 | J91: F | K91: 5907178025024 | L91: szt | M91: 50 | O91: 3 lata | P91: https://b2b.kobi.pl/pl/product/13498,tasma-led-tramo-320-cob-ambient-5m-4000k-24v-ip20-kobi-premium?currency=PLN | R91: nowość | S91: 94054231 | T91: 0.08 | U91: 0.1 | V91: 0.2 | W91: 23 | X91: 21 | Y91: 1
B92: OPRAWY PRZEMYSŁOWE | C92: NAŚWIETLACZE | D92: Kobi Premium | E92: Oprawa LED MULTILUXO 200W 4000K IP65 Kobi Premium | F92: 005043 | G92: Naświetlacze profesjonalne | H92: 204.44 | I92: =$H92 -> 204.44 | J92: nie dotyczy | K92: 5907178023464 | L92: szt | M92: 5 | N92: 210 | O92: 3 lata | P92: https://b2b.kobi.pl/pl/product/13495,oprawa-led-multiluxo-200w-4000k-ip65-kobi-premium?currency=PLN | R92: nowość | S92: 94054239 | T92: 0.73 | U92: 0.86 | V92: 1.53 | W92: 42.5 | X92: 20 | Y92: 6
B93: OPRAWY PRZEMYSŁOWE | C93: NAŚWIETLACZE | D93: Kobi Premium | E93: Oprawa LED MULTILUXO 150W 4000K IP65 Kobi Premium | F93: 005042 | G93: Naświetlacze profesjonalne | H93: 155.33 | I93: =$H93 -> 155.33 | J93: nie dotyczy | K93: 5907178023457 | L93: szt | M93: 10 | N93: 240 | O93: 3 lata | P93: https://b2b.kobi.pl/pl/product/13494,oprawa-led-multiluxo-150w-4000k-ip65-kobi-premium?currency=PLN | R93: nowość | S93: 94054239 | T93: 0.53 | U93: 0.63 | V93: 1.22 | W93: 36.5 | X93: 18 | Y93: 6
B94: OPRAWY PRZEMYSŁOWE | C94: NAŚWIETLACZE | D94: Kobi Premium | E94: Oprawa LED MULTILUXO 100W 4000K IP65 Kobi Premium | F94: 005041 | G94: Naświetlacze profesjonalne | H94: 115.56 | I94: =$H94 -> 115.56 | J94: nie dotyczy | K94: 5907178023440 | L94: szt | M94: 10 | N94: 400 | O94: 3 lata | P94: https://b2b.kobi.pl/pl/product/13493,oprawa-led-multiluxo-100w-4000k-ip65-kobi-premium?currency=PLN | R94: nowość | S94: 94054239 | T94: 0.34 | U94: 0.4 | V94: 0.85 | W94: 30.5 | X94: 15 | Y94: 5.5
B95: OPRAWY PRZEMYSŁOWE | C95: NAŚWIETLACZE | D95: Kobi Premium | E95: Oprawa LED MULTILUXO 50W 4000K IP65 Kobi Premium | F95: 005040 | G95: Naświetlacze profesjonalne | H95: 93.33 | I95: =$H95 -> 93.33 | J95: nie dotyczy | K95: 5907178023433 | L95: szt | M95: 20 | N95: 600 | O95: 3 lata | P95: https://b2b.kobi.pl/pl/product/13492,oprawa-led-multiluxo-50w-4000k-ip65-kobi-premium?currency=PLN | R95: nowość | S95: 94054239 | T95: 0.25 | U95: 0.29 | V95: 0.7 | W95: 26.5 | X95: 11.5 | Y95: 6
B96: ŹRÓDŁA | C96: PASKI LED | D96: Kobi | E96: Przesłona mleczna KG01 2m Kobi | F96: 005037 | G96: Profile aluminiowe | H96: 1.79 | I96: =$H96 -> 1.79 | K96: 5907178023426 | L96: szt | M96: 200 | O96: 2 lata | R96: nowość | S96: 39169090 | T96: 0 | U96: 0.032 | V96: 0.032 | W96: 200 | X96: 1.2 | Y96: 0.3
B97: OPRAWY PRZEMYSŁOWE | C97: NAŚWIETLACZE | D97: Kobi Premium | E97: Naświetlacz Solar LED MHCS G2 35W 3CCT IP65 Kobi Premium | F97: 005036 | G97: Naświetlacze solarne | H97: 345 | I97: =$H97*(1-Rabat!$D$15) -> 345 | J97: nie dotyczy | K97: 5907178023419 | L97: szt | M97: 10 | O97: 3 lata | P97: https://b2b.kobi.pl/pl/product/13488,naswietlacz-solar-led-mhcs-g2-35w-3cct-ip65-kobi-premium?currency=PLN | R97: nowość | S97: 94054139 | T97: 1.74 | U97: 2.065 | V97: 2.6 | W97: 24 | X97: 40.5 | Y97: 10.5
B98: OPRAWY PRZEMYSŁOWE | C98: NAŚWIETLACZE | D98: Kobi Premium | E98: Naświetlacz Solar LED MHCS G2 20W 3CCT IP65 Kobi Premium | F98: 005035 | G98: Naświetlacze solarne | H98: 245 | I98: =$H98*(1-Rabat!$D$15) -> 245 | J98: nie dotyczy | K98: 5907178023402 | L98: szt | M98: 10 | O98: 3 lata | P98: https://b2b.kobi.pl/pl/product/13487,naswietlacz-solar-led-mhcs-g2-20w-3cct-ip65-kobi-premium?currency=PLN | R98: nowość | S98: 94054139 | T98: 1.24 | U98: 1.465 | V98: 1.95 | W98: 21 | X98: 31 | Y98: 10
B99: URZĄDZENIA ELEKTRYCZNE | C99: GRZEJNIKI | D99: Kobi Windstar | E99: Grzejnik konwektorowy SONDO R 2000W TURBO biały Kobi Windstar | F99: 005034 | G99: Wentylatory i termowentylatory | H99: 349.75 | I99: =$H99*(1-Rabat!$D$41) -> 349.75 | J99: nie dotyczy | K99: 5907178023396 | L99: szt | M99: 1 | N99: 32 | O99: 2 lata | P99: https://b2b.kobi.pl/pl/product/13486,grzejnik-konwektorowy-sondo-r-2000w-turbo-bialy-kobi-windstar?currency=PLN | R99: nowość | S99: 85162950 | T99: 1.23 | U99: 3.01 | V99: 3.65 | W99: 64.5 | X99: 14 | Y99: 43
B100: URZĄDZENIA ELEKTRYCZNE | C100: GRZEJNIKI | D100: Kobi Windstar | E100: Termowentylator MISTRAL G2 2000W biały Kobi Windstar | F100: 005033 | G100: Wentylatory i termowentylatory | H100: 96.25 | I100: =$H100*(1-Rabat!$D$41) -> 96.25 | J100: nie dotyczy | K100: 5907178023389 | L100: szt | M100: 6 | N100: 162 | O100: 2 lata | P100: https://b2b.kobi.pl/pl/product/13485,termowentylator-mistral-g2-2000w-bialy-kobi-windstar?currency=PLN | R100: nowość | S100: 85162991 | T100: 0.4 | U100: 1.02 | V100: 1.16 | W100: 25.5 | X100: 23.5 | Y100: 12
B101: URZĄDZENIA ELEKTRYCZNE | C101: GRZEJNIKI | D101: Kobi Windstar | E101: Termowentylator ceramiczny RIN 2000W czarny Kobi Windstar | F101: 005032 | G101: Wentylatory i termowentylatory | H101: 287.5 | I101: =$H101*(1-Rabat!$D$41) -> 287.5 | J101: nie dotyczy | K101: 5907178023372 | L101: szt | M101: 1 | N101: 63 | O101: 2 lata | P101: https://b2b.kobi.pl/pl/product/13484,termowentylator-ceramiczny-rin-2000w-czarny-kobi-windstar?currency=PLN | R101: nowość | S101: 85162991 | T101: 0.74 | U101: 1.8 | V101: 2.14 | W101: 64.5 | X101: 19 | Y101: 17.5
B102: OPRAWY PRZEMYSŁOWE | C102: HIGH BAY | D102: Kobi Professional | E102: High Bay LED RIO PRO 120-160W 3CCT IP66 Kobi Pro | F102: 005031 | G102: High bay | H102: 430 | I102: =$H102*(1-Rabat!$D$14) -> 430 | J102: nie dotyczy | K102: 5907178023365 | L102: szt | M102: 1 | N102: 66 | O102: 5 lat | P102: https://b2b.kobi.pl/pl/product/13483,high-bay-led-rio-pro-120-160w-3cct-ip66-kobi-pro?currency=PLN | Q102: https://eprel.ec.europa.eu/qr/2722189 | R102: nowość | S102: 94054239 | T102: 1.65 | U102: 1.95 | V102: 2.5 | W102: 34 | X102: 34 | Y102: 14.5
B103: OPRAWY PRZEMYSŁOWE | C103: HIGH BAY | D103: Kobi Professional | E103: High Bay LED RIO PRO 60-80-100W 3CCT IP66 Kobi Pro | F103: 005030 | G103: High bay | H103: 330 | I103: =$H103*(1-Rabat!$D$14) -> 330 | J103: nie dotyczy | K103: 5907178023358 | L103: szt | M103: 1 | N103: 162 | O103: 5 lat | P103: https://b2b.kobi.pl/pl/product/13482,high-bay-led-rio-pro-60-80-100w-3cct-ip66-kobi-pro?currency=PLN | Q103: https://eprel.ec.europa.eu/qr/2721856 | R103: nowość | S103: 94054239 | T103: 0.97 | U103: 1.15 | V103: 1.45 | W103: 25 | X103: 25 | Y103: 14
B104: OPRAWY PRZEMYSŁOWE | C104: PLAFONY | D104: Kobi Professional | E104: Plafon LED DEFENDER G2 12-18-24W 3CCT IP65 Kobi Pro | F104: 005028 | G104: Plafony | H104: 133.31 | I104: =$H104*(1-Rabat!$D$16) -> 133.31 | J104: nie dotyczy | K104: 5907178023334 | L104: szt | M104: 10 | N104: 150 | O104: 5 lat | P104: https://b2b.kobi.pl/pl/product/13480,plafon-led-defender-g2-12-18-24w-3cct-ip65-kobi-pro?currency=PLN | Q104: https://eprel.ec.europa.eu/qr/2679277 | R104: nowość | S104: 94051140 | T104: 0.59 | U104: 0.7 | V104: 0.887 | W104: 30.5 | X104: 7.5 | Y104: 30.5
B105: OPRAWY PRZEMYSŁOWE | C105: SZYNOPRZEWÓD | D105: Kobi | E105: Baza do reflektora NEXTRACK S-LINE 3-obwodowa czarna Kobi | F105: 005027 | G105: Szynoprzewód i akcesoria | H105: 31.11 | I105: =$H105*(1-Rabat!$D$21) -> 31.11 | J105: nie dotyczy | K105: 5907178023327 | L105: szt | M105: 50 | O105: 2 lata | P105: https://b2b.kobi.pl/pl/product/13479,baza-do-szynoprzewodu-3-obwodowa-czarna-kobi?currency=PLN | R105: nowość | S105: 94059900 | T105: 0 | U105: 0.091 | V105: 0.094 | W105: 15 | X105: 15 | Y105: 4
B106: OPRAWY PRZEMYSŁOWE | C106: SZYNOPRZEWÓD | D106: Kobi | E106: Baza do reflektora NEXTRACK S-LINE 3-obwodowa biała Kobi | F106: 005026 | G106: Szynoprzewód i akcesoria | H106: 31.11 | I106: =$H106*(1-Rabat!$D$21) -> 31.11 | J106: nie dotyczy | K106: 5907178023310 | L106: szt | M106: 50 | O106: 2 lata | P106: https://b2b.kobi.pl/pl/product/13478,baza-do-szynoprzewodu-3-obwodowa-biala-kobi?currency=PLN | R106: nowość | S106: 94059900 | T106: 0 | U106: 0.091 | V106: 0.094 | W106: 15 | X106: 15 | Y106: 4
B107: OPRAWY PRZEMYSŁOWE | C107: SZYNOPRZEWÓD | D107: Kobi | E107: Adapter do szynoprzewodu 3-obwodowy czarny Kobi | F107: 005025 | G107: Szynoprzewód i akcesoria | H107: 22.2 | I107: =$H107*(1-Rabat!$D$21) -> 22.2 | J107: nie dotyczy | K107: 5907178023303 | L107: szt | M107: 100 | O107: 2 lata | P107: https://b2b.kobi.pl/pl/product/13477,adapter-do-szynoprzewodu-3-obwodowy-czarny-kobi?currency=PLN | R107: nowość | S107: 94059900 | T107: 0 | U107: 0.065 | V107: 0.069 | W107: 10 | X107: 15 | Y107: 4
B108: OPRAWY PRZEMYSŁOWE | C108: SZYNOPRZEWÓD | D108: Kobi | E108: Adapter do szynoprzewodu 3-obwodowy biały Kobi | F108: 005024 | G108: Szynoprzewód i akcesoria | H108: 22.2 | I108: =$H108*(1-Rabat!$D$21) -> 22.2 | J108: nie dotyczy | K108: 5907178023297 | L108: szt | M108: 100 | O108: 2 lata | P108: https://b2b.kobi.pl/pl/product/13476,adapter-do-szynoprzewodu-3-obwodowy-bialy-kobi?currency=PLN | R108: nowość | S108: 94059900 | T108: 0 | U108: 0.065 | V108: 0.069 | W108: 10 | X108: 15 | Y108: 4
B109: OPRAWY PRZEMYSŁOWE | C109: SZYNOPRZEWÓD | D109: Kobi | E109: Reflektor szynowy NEXTRACK S-LINE RING 1xGU10 czarny Kobi | F109: 005021 | G109: Oprawy na szynoprzewód | H109: 62.22 | I109: =$H109*(1-Rabat!$D$26) -> 62.22 | J109: nie dotyczy | K109: 5907178023266 | L109: szt | M109: 50 | N109: 750 | O109: 2 lata | P109: https://b2b.kobi.pl/pl/product/13473,reflektor-szynowy-nextrack-s-line-ring-1xgu10-czarny-kobi?currency=PLN | R109: nowość | S109: 94051190 | T109: 0.06 | U109: 0.16 | V109: 0.216 | W109: 9 | X109: 6.5 | Y109: 21
B110: OPRAWY PRZEMYSŁOWE | C110: LINIOWE T8 | D110: Kobi | E110: Zestaw HERMETIC G2 2x60 + 2x LED T8 9W 4000K IP65 Kobi | F110: 005020 | G110: Liniowe hermetyczne | H110: 60 | I110: =$H110*(1-Rabat!$D$20) -> 60 | J110: nie dotyczy | K110: 5907178023259 | L110: szt | M110: 10 | N110: 250 | O110: 2 lata | P110: https://b2b.kobi.pl/pl/product/13472,zestaw-hermetic-g2-2x60-2x-led-t8-9w-4000k-ip65-kobi?currency=PLN | R110: nowość | S110: 94051140 | T110: 0.51 | U110: 0.6 | V110: 0.7 | W110: 72 | X110: 10 | Y110: 5.8
...

Sheet Cennik wyprzedaż
C1: Cennik obowiązujący od dnia: | D1: 12.10.2026 | E1: www.kobi.pl
A2: Zdjęcie | B2: Artykuł | C2: Kod | D2: Cena wyprzedażowa | E2: EEI | F2: Kod EAN | G2: jm | H2: Ilość w opakowaniu zbiorczym | I2: Ilość na palecie | J2: Gwarancja | K2: WWW | L2: Eprel | M2: CN | N2: KGO | O2: Waga netto (kg) | P2: Waga brutto (kg) | Q2: Długość (cm) | R2: Szerokość (cm) | S2: Wysokość (cm)
B3: Zestaw 2x Girlanda Venezia + zasilacz 12V 24W do VENEZIA + Kabel 47cm Kobi Design | C3: 005155 | D3: 123 | E3: nie dotyczy | F3: 5907178026410 | G3: szt | J3: 2 lata | K3: https://b2b.kobi.pl/pl/product/13608,zestaw-2xvenezia-zasilacz-12v-24w-do-venezia-kabel-47cm-kobi-design?currency=PLN | L3: https://eprel.ec.europa.eu/qr/2032423 | M3: 94054131 | N3: 0 | O3: 0 | P3: 0 | Q3: 0 | R3: 0 | S3: 0
B4: ZESTAW CRETE Girlanda ogrodowa 20m + kabel 10m + 20x klosz M2 | C4: 005141 | D4: 158.65 | E4: nie dotyczy | F4: 5907178026380 | G4: szt | J4: 2 lata | K4: https://b2b.kobi.pl/pl/product/13594,zestaw-crete-girlanda-ogrodowa-20m-kabel-10m-20x-klosz-m2?currency=PLN | N4: 0 | O4: 6.98 | P4: 8.94 | Q4: 0 | R4: 0 | S4: 0
B5: ZESTAW CRETE Girlanda ogrodowa 20m + kabel 10m + 20x klosz M1 | C5: 005140 | D5: 163.65 | E5: nie dotyczy | F5: 5907178026373 | G5: szt | J5: 2 lata | K5: https://b2b.kobi.pl/pl/product/13593,zestaw-crete-girlanda-ogrodowa-20m-kabel-10m-20x-klosz-m1?currency=PLN | M5: 94054990 | N5: 0 | O5: 6.98 | P5: 8.94 | Q5: 0 | R5: 0 | S5: 0
B6: ZESTAW CRETE Girlanda ogrodowa 15m + kabel 10m + 15x klosz M2 | C6: 005139 | D6: 122.9 | E6: nie dotyczy | F6: 5907178026366 | G6: szt | J6: 2 lata | K6: https://b2b.kobi.pl/pl/product/13592,zestaw-crete-girlanda-ogrodowa-15m-kabel-10m-15x-klosz-m2?currency=PLN | N6: 0 | O6: 5.43 | P6: 7.04 | Q6: 0 | R6: 0 | S6: 0
B7: ZESTAW CRETE Girlanda ogrodowa 15m + kabel 10m + 15x klosz M1 | C7: 005138 | D7: 126.65 | E7: nie dotyczy | F7: 5907178026359 | G7: szt | J7: 2 lata | K7: https://b2b.kobi.pl/pl/product/13591,zestaw-crete-girlanda-ogrodowa-15m-kabel-10m-15x-klosz-m1?currency=PLN | N7: 0 | O7: 5.43 | P7: 7.04 | Q7: 0 | R7: 0 | S7: 0
B8: ZESTAW CRETE Girlanda ogrodowa 10m + kabel 10m + 10x klosz M2 | C8: 005137 | D8: 87.15 | E8: nie dotyczy | F8: 5907178026342 | G8: szt | J8: 2 lata | K8: https://b2b.kobi.pl/pl/product/13590,zestaw-crete-girlanda-ogrodowa-10m-kabel-10m-10x-klosz-m2?currency=PLN | N8: 0 | O8: 3.88 | P8: 5.14 | Q8: 0 | R8: 0 | S8: 0
B9: ZESTAW CRETE Girlanda ogrodowa 10m + kabel 10m + 10x klosz M1 | C9: 005136 | D9: 89.65 | E9: nie dotyczy | F9: 5907178026335 | G9: szt | J9: 2 lata | K9: https://b2b.kobi.pl/pl/product/13589,zestaw-crete-girlanda-ogrodowa-10m-kabel-10m-10x-klosz-m1?currency=PLN | N9: 0 | O9: 3.88 | P9: 5.14 | Q9: 0 | R9: 0 | S9: 0
B10: ZESTAW CRETE Girlanda ogrodowa 5m + kabel 10m + 5x klosz M2 | C10: 005135 | D10: 51.4 | E10: nie dotyczy | F10: 5907178026328 | G10: szt | J10: 2 lata | K10: https://b2b.kobi.pl/pl/product/13588,zestaw-crete-girlanda-ogrodowa-5m-kabel-10m-5x-klosz-m2?currency=PLN | M10: 85444290 | N10: 0 | O10: 2.33 | P10: 3.24 | Q10: 0 | R10: 0 | S10: 0
B11: ZESTAW CRETE Girlanda ogrodowa 5m + kabel 10m + 5x klosz M1 | C11: 005134 | D11: 52.65 | E11: nie dotyczy | F11: 5907178026311 | G11: szt | J11: 2 lata | K11: https://b2b.kobi.pl/pl/product/13587,zestaw-crete-girlanda-ogrodowa-5m-kabel-10m-5x-klosz-m1?currency=PLN | N11: 0 | O11: 2.33 | P11: 3.24 | Q11: 0 | R11: 0 | S11: 0
B12: ZESTAW CRETE Girlanda ogrodowa 15m + kabel 5m + 15x klosz D1 | C12: 005132 | D12: 126.4 | E12: nie dotyczy | F12: 5907178026298 | G12: szt | J12: 2 lata | K12: https://b2b.kobi.pl/pl/product/13585,zestaw-crete-girlanda-ogrodowa-15m-kabel-5m-15x-klosz-d1?currency=PLN | M12: 85444290 | N12: 0 | O12: 3.68 | P12: 5.13 | Q12: 0 | R12: 0 | S12: 0
B13: ZESTAW CRETE Girlanda ogrodowa 15m + kabel 5m + 15x klosz M2 | C13: 005131 | D13: 115.9 | E13: nie dotyczy | F13: 5907178026281 | G13: szt | J13: 2 lata | K13: https://b2b.kobi.pl/pl/product/13584,zestaw-crete-girlanda-ogrodowa-15m-kabel-5m-15x-klosz-m2?currency=PLN | M13: 85444290 | N13: 0 | O13: 5.09 | P13: 6.63 | Q13: 0 | R13: 0 | S13: 0
B14: ZESTAW CRETE Girlanda ogrodowa 15m + kabel 5m + 15x klosz M1 | C14: 005130 | D14: 119.65 | E14: nie dotyczy | F14: 5907178026274 | G14: szt | J14: 2 lata | K14: https://b2b.kobi.pl/pl/product/13583,zestaw-crete-girlanda-ogrodowa-15m-kabel-5m-15x-klosz-m1?currency=PLN | M14: 85444290 | N14: 0 | O14: 5.09 | P14: 6.63 | Q14: 0 | R14: 0 | S14: 0
B15: ZESTAW CRETE Girlanda ogrodowa 20m + kabel 5m + 20x klosz D1 | C15: 005128 | D15: 165.65 | E15: nie dotyczy | F15: 5907178026250 | G15: szt | J15: 2 lata | K15: https://b2b.kobi.pl/pl/product/13581,zestaw-crete-girlanda-ogrodowa-20m-kabel-5m-20x-klosz-d1?currency=PLN | M15: 85444290 | N15: 0 | O15: 4.76 | P15: 6.53 | Q15: 0 | R15: 0 | S15: 0
B16: ZESTAW CRETE Girlanda ogrodowa 20m + kabel 5m + 20x klosz M2 | C16: 005127 | D16: 151.65 | E16: nie dotyczy | F16: 5907178026243 | G16: szt | J16: 2 lata | K16: https://b2b.kobi.pl/pl/product/13580,zestaw-crete-girlanda-ogrodowa-20m-kabel-5m-20x-klosz-m2?currency=PLN | M16: 85444290 | N16: 0 | O16: 6.64 | P16: 8.53 | Q16: 0 | R16: 0 | S16: 0
B17: ZESTAW CRETE Girlanda ogrodowa 20m + kabel 5m + 20x klosz M1 | C17: 005126 | D17: 156.65 | E17: nie dotyczy | F17: 5907178026236 | G17: szt | J17: 2 lata | K17: https://b2b.kobi.pl/pl/product/13579,zestaw-crete-girlanda-ogrodowa-20m-kabel-5m-20x-klosz-m1?currency=PLN | M17: 85444290 | N17: 0 | O17: 6.64 | P17: 8.53 | Q17: 0 | R17: 0 | S17: 0
B18: ZESTAW CRETE Girlanda ogrodowa 10m + kabel 5m + 10x klosz D1 | C18: 005124 | D18: 87.15 | E18: nie dotyczy | F18: 5907178026212 | G18: szt | J18: 2 lata | K18: https://b2b.kobi.pl/pl/product/13577,zestaw-crete-girlanda-ogrodowa-10m-kabel-5m-10x-klosz-d1?currency=PLN | M18: 85444290 | N18: 0 | O18: 2.6 | P18: 3.73 | Q18: 0 | R18: 0 | S18: 0
B19: ZESTAW CRETE Girlanda ogrodowa 10m + kabel 5m + 10x klosz M2 | C19: 005123 | D19: 80.15 | E19: nie dotyczy | F19: 5907178026205 | G19: szt | J19: 2 lata | K19: https://b2b.kobi.pl/pl/product/13576,zestaw-crete-girlanda-ogrodowa-10m-kabel-5m-10x-klosz-m2?currency=PLN | M19: 85444290 | N19: 0 | O19: 3.54 | P19: 4.73 | Q19: 0 | R19: 0 | S19: 0
B20: ZESTAW CRETE Girlanda ogrodowa 10m + kabel 5m + 10x klosz M1 | C20: 005122 | D20: 82.65 | E20: nie dotyczy | F20: 5907178026199 | G20: szt | J20: 2 lata | K20: https://b2b.kobi.pl/pl/product/13575,zestaw-crete-girlanda-ogrodowa-10m-kabel-5m-10x-klosz-m1?currency=PLN | M20: 85444290 | N20: 0 | O20: 3.54 | P20: 4.73 | Q20: 0 | R20: 0 | S20: 0
B21: ZESTAW CRETE Girlanda ogrodowa 5m + kabel 5m + 5x klosz D1 | C21: 005120 | D21: 47.9 | E21: nie dotyczy | F21: 5907178026175 | G21: szt | J21: 2 lata | K21: https://b2b.kobi.pl/pl/product/13573,zestaw-crete-girlanda-ogrodowa-5m-kabel-5m-5x-klosz-d1?currency=PLN | N21: 0 | O21: 1.52 | P21: 2.33 | Q21: 0 | R21: 0 | S21: 0
B22: ZESTAW CRETE Girlanda ogrodowa 5m + kabel 5m + 5x klosz M2 | C22: 005119 | D22: 44.4 | E22: nie dotyczy | F22: 5907178026168 | G22: szt | J22: 2 lata | K22: https://b2b.kobi.pl/pl/product/13572,zestaw-crete-girlanda-ogrodowa-5m-kabel-5m-5x-klosz-m2?currency=PLN | N22: 0 | O22: 1.99 | P22: 2.83 | Q22: 0 | R22: 0 | S22: 0
B23: ZESTAW CRETE Girlanda ogrodowa 5m + kabel 5m + 5x klosz M1 | C23: 005118 | D23: 45.65 | E23: nie dotyczy | F23: 5907178026151 | G23: szt | J23: 2 lata | K23: https://b2b.kobi.pl/pl/product/13571,zestaw-crete-girlanda-ogrodowa-5m-kabel-5m-5x-klosz-m1?currency=PLN | N23: 0 | O23: 1.99 | P23: 2.83 | Q23: 0 | R23: 0 | S23: 0
B24: Lampka biurkowa BATILA BAMBOO ST 1xE27 LLS | C24: 002603 | D24: 81.56 | E24: nie dotyczy | F24: 5902201381603 | G24: szt | H24: 1 | J24: 2 lata | K24: https://b2b.kobi.pl/pl/product/10940,lampka-biurkowa-batila-bamboo-st-1xe27-lls?currency=PLN | M24: 94051990 | N24: 0.29 | O24: 0.7 | P24: 1.4 | Q24: 35 | R24: 35 | S24: 31
B25: Lampka na monitor LED ZENARRA 5W CCT LLS | C25: 002600 | D25: 9.99 | E25: nie dotyczy | F25: 5902201378337 | G25: szt | H25: 20 | J25: 2 lata | K25: https://b2b.kobi.pl/pl/product/10937,lampka-na-monitor-led-zenarra-5w-cct-lls?currency=PLN | L25: https://eprel.ec.europa.eu/qr/2077089 | M25: 94052990 | N25: 0.42 | O25: 0.5 | P25: 0.51 | Q25: 36 | R25: 98 | S25: 12
B26: Lampa wisząca SOLIX BAMBOO 1xE27 LLS | C26: 002579 | D26: 60.6 | E26: nie dotyczy | F26: 5902201366471 | G26: szt | H26: 1 | J26: 2 lata | K26: https://b2b.kobi.pl/pl/product/10916,lampa-wiszaca-solix-bamboo-1xe27-lls?currency=PLN | M26: 94051990 | N26: 0.36 | O26: 0.88 | P26: 1.55 | Q26: 33 | R26: 28 | S26: 29.5
B27: Lampa wisząca OLEA BAMBOO 1xE27 LLS | C27: 002572 | D27: 49.87 | E27: nie dotyczy | F27: 5902201366402 | G27: szt | H27: 1 | J27: 2 lata | K27: https://b2b.kobi.pl/pl/product/10909,lampa-wiszaca-olea-bamboo-1xe27-lls?currency=PLN | M27: 94051990 | N27: 0.2 | O27: 0.5 | P27: 1.3 | Q27: 46 | R27: 46 | S27: 20.5
B28: Lampa ogrodowa kwadratowa 1xGU10 IP44 czarna LLS | C28: 002546 | D28: 9.9 | E28: nie dotyczy | F28: 5902846016458 | G28: szt | H28: 24 | I28: 840 | J28: 2 lata | K28: https://b2b.kobi.pl/pl/product/10883,lampa-ogrodowa-kwadratowa-1xgu10-ip44-czarna-lls?currency=PLN | M28: 94054990 | N28: 0.15 | O28: 0.393 | P28: 0.451 | Q28: 10.5 | R28: 10.5 | S28: 10.5
B29: Panel solarny LA-300 Laitica | C29: 002505 | D29: 483.17 | E29: nie dotyczy | F29: 5902201359497 | G29: szt | J29: 2 lata | K29: https://b2b.kobi.pl/pl/product/10842,panel-solarny-la-300-laitica?currency=PLN | M29: 85414300 | N29: 2.6 | O29: 6.35 | P29: 6.985 | Q29: 0 | R29: 0 | S29: 0
B30: Lampka biurkowa LED ORBI 2,5W CCT różowa Laitica | C30: 002429 | D30: 25 | E30: nie dotyczy | F30: 5902201368307 | G30: szt | H30: 12 | J30: 2 lata | K30: https://b2b.kobi.pl/pl/product/10766,lampka-biurkowa-led-orbi-2-5w-cct-rozowa-laitica?currency=PLN | M30: 94052140 | N30: 0.67 | O30: 0.79 | P30: 0.869 | Q30: 0 | R30: 0 | S30: 0
B31: Lampka biurkowa LED ORBI 2,5W CCT niebieska Laitica | C31: 002428 | D31: 25 | E31: nie dotyczy | F31: 5902201368291 | G31: szt | H31: 12 | I31: 672 | J31: 2 lata | K31: https://b2b.kobi.pl/pl/product/10765,lampka-biurkowa-led-orbi-2-5w-cct-niebieska-laitica?currency=PLN | M31: 94052140 | N31: 0.67 | O31: 0.79 | P31: 0.869 | Q31: 0 | R31: 0 | S31: 0
B32: Lampka biurkowa LED ORBI 2,5W CCT szara Laitica | C32: 002427 | D32: 25 | E32: nie dotyczy | F32: 5902201368284 | G32: szt | H32: 12 | I32: 672 | J32: 2 lata | K32: https://b2b.kobi.pl/pl/product/10764,lampka-biurkowa-led-orbi-2-5w-cct-szara-laitica?currency=PLN | M32: 94052140 | N32: 0.67 | O32: 0.79 | P32: 0.869 | Q32: 0 | R32: 0 | S32: 0
B33: Lampka biurkowa LED ORBI 2,5W CCT biała Laitica | C33: 002426 | D33: 25 | E33: nie dotyczy | F33: 5902201368277 | G33: szt | H33: 12 | I33: 672 | J33: 2 lata | K33: https://b2b.kobi.pl/pl/product/10763,lampka-biurkowa-led-orbi-2-5w-cct-biala-laitica?currency=PLN | M33: 94052140 | N33: 0.67 | O33: 0.79 | P33: 0.869 | Q33: 0 | R33: 0 | S33: 0
B34: Lampka biurkowa LED ORBI 2,5W CCT czarna Laitica | C34: 002425 | D34: 25 | E34: nie dotyczy | F34: 5902201368260 | G34: szt | H34: 12 | I34: 672 | J34: 2 lata | K34: https://b2b.kobi.pl/pl/product/10762,lampka-biurkowa-led-orbi-2-5w-cct-czarna-laitica?currency=PLN | M34: 94052140 | N34: 0.67 | O34: 0.79 | P34: 0.869 | Q34: 0 | R34: 0 | S34: 0
B35: Kinkiet ogrodowy QUAZAR 5 2xGU10 IP44 czarny Kobi | C35: 002286 | D35: 39.34 | E35: nie dotyczy | F35: 5900605095249 | G35: szt | H35: 10 | J35: 2 lata | K35: https://b2b.kobi.pl/pl/product/10623,kinkiet-ogrodowy-quazar-5-2xgu10-ip44-czarny-kobi?currency=PLN | M35: 94051990 | N35: 0.25 | O35: 0.641 | P35: 0.807 | Q35: 9.5 | R35: 9.3 | S35: 27
B36: Oprawa do nadbudowania LED VALLE 4,2W 3000K Art of Light | C36: 002217 | D36: 10.46 | E36: nie dotyczy | F36: 5902846011514 | G36: szt | H36: 18 | I36: 175 | J36: 2 lata | K36: https://b2b.kobi.pl/pl/product/10554,oprawa-do-nabudowania-led-valle-4-2w-3000k-art-of-light?currency=PLN | L36: https://eprel.ec.europa.eu/qr/929313 | M36: 94054990 | N36: 0.59 | O36: 0.7 | P36: 0.77 | Q36: 0 | R36: 0 | S36: 0
B37: Kinkiet LED RARO 4,2W 3000K biały Art of Light | C37: 002216 | D37: 13.43 | E37: G | F37: 5902846011606 | G37: szt | H37: 9 | I37: 100 | J37: 2 lata | K37: https://b2b.kobi.pl/pl/product/10553,kinkiet-led-raro-4-2w-3000k-bialy-art-of-light?currency=PLN | L37: https://eprel.ec.europa.eu/qr/941016 | M37: 94054239 | N37: 0.81 | O37: 0.96 | P37: 1.056 | Q37: 0 | R37: 0 | S37: 0
B38: Oprawa VENICE 1xGU10 Art of Light | C38: 002212 | D38: 23.14 | E38: nie dotyczy | F38: 5900605099483 | G38: szt | H38: 12 | J38: 2 lata | K38: https://b2b.kobi.pl/pl/product/10549,oprawa-venice-1xgu10-art-of-light?currency=PLN | M38: 94051990 | N38: 0.31 | O38: 0.79 | P38: 0.869 | Q38: 0 | R38: 0 | S38: 0
B39: Oprawa do nadbudowania STOA 1xGU10 Art of Light | C39: 002206 | D39: 10.46 | E39: nie dotyczy | F39: 5900605098998 | G39: szt | H39: 18 | I39: 270 | J39: 2 lata | K39: https://b2b.kobi.pl/pl/product/10543,oprawa-do-nabudowania-stoa-1xgu10-art-of-light?currency=PLN | M39: 94051990 | N39: 0.26 | O39: 0.66 | P39: 0.726 | Q39: 0 | R39: 0 | S39: 0
B40: Kinkiet SECCO 1xE14 Art of Light | C40: 002204 | D40: 15.53 | E40: nie dotyczy | F40: 5900605099025 | G40: szt | H40: 12 | I40: 168 | J40: 2 lata | K40: https://b2b.kobi.pl/pl/product/10541,kinkiet-secco-1xe14-art-of-light?currency=PLN | M40: 94051990 | N40: 0.62 | O40: 1.6 | P40: 1.76 | Q40: 0 | R40: 0 | S40: 0
B41: Lampa wisząca PITTORE B 1xE27 biała Art of Light | C41: 002201 | D41: 20.98 | E41: nie dotyczy | F41: 5900605099087 | G41: szt | H41: 4 | J41: 2 lata | K41: https://b2b.kobi.pl/pl/product/10538,lampa-wiszaca-pittore-b-1xe27-biala-art-of-light?currency=PLN | M41: 94051990 | N41: 0.71 | O41: 1.82 | P41: 2.002 | Q41: 0 | R41: 0 | S41: 0
B42: Oprawa do nadbudowania PURO MASSO C 2xGU10 szara Art of Light | C42: 002196 | D42: 30.22 | E42: nie dotyczy | F42: 5902846011682 | G42: szt | H42: 8 | I42: 120 | J42: 2 lata | K42: https://b2b.kobi.pl/pl/product/10533,oprawa-do-nabudowania-puro-masso-c-2xgu10-szara-art-of-light?currency=PLN | M42: 94054990 | N42: 0.98 | O42: 2.5 | P42: 2.75 | Q42: 0 | R42: 0 | S42: 0
B43: Oprawa do nadbudowania NAOS 1xGU10 Art of Light | C43: 002188 | D43: 9.9 | E43: nie dotyczy | F43: 5900605098967 | G43: szt | H43: 8 | I43: 263 | J43: 2 lata | K43: https://b2b.kobi.pl/pl/product/10525,oprawa-do-nabudowania-naos-1xgu10-art-of-light?currency=PLN | M43: 94051990 | N43: 0.4 | O43: 1.02 | P43: 1.122 | Q43: 0 | R43: 0 | S43: 0
B44: Oprawa sufitowa VENICE W-2L 2xGU10 biała JVS | C44: 002182 | D44: 23.87 | E44: nie dotyczy | F44: 4251292449251 | G44: szt | H44: 8 | I44: 224 | J44: 2 lata | K44: https://b2b.kobi.pl/pl/product/10519,oprawa-sufitowa-venice-w-2l-2xgu10-biala-jvs?currency=PLN | M44: 94051990 | N44: 0 | O44: 0.66 | P44: 0.726 | Q44: 0 | R44: 0 | S44: 0
B45: Oprawa sufitowa VENICE W-1L 1xGU10 biała JVS | C45: 002181 | D45: 11.86 | E45: nie dotyczy | F45: 4251292449244 | G45: szt | H45: 12 | I45: 480 | J45: 2 lata | K45: https://b2b.kobi.pl/pl/product/10518,oprawa-sufitowa-venice-w-1l-1xgu10-biala-jvs?currency=PLN | M45: 94051990 | N45: 0 | O45: 0.33 | P45: 0.363 | Q45: 0 | R45: 0 | S45: 0
B46: Oprawa sufitowa VENICE B-1L 1xGU10 czarna JVS | C46: 002179 | D46: 11.62 | E46: nie dotyczy | F46: 4251292449282 | G46: szt | H46: 12 | I46: 480 | J46: 2 lata | K46: https://b2b.kobi.pl/pl/product/10516,oprawa-sufitowa-venice-b-1l-1xgu10-czarna-jvs?currency=PLN | M46: 94051990 | N46: 0 | O46: 0.33 | P46: 0.363 | Q46: 0 | R46: 0 | S46: 0
B47: Oprawa do nadbudowania GEMMA 1xGU10 Art of Light | C47: 002176 | D47: 8.11 | E47: nie dotyczy | F47: 5900605098974 | G47: szt | H47: 12 | I47: 180 | J47: 2 lata | K47: https://b2b.kobi.pl/pl/product/10513,oprawa-do-nabudowania-gemma-1xgu10-art-of-light?currency=PLN | M47: 94051990 | N47: 0.26 | O47: 0.66 | P47: 0.726 | Q47: 0 | R47: 0 | S47: 0
B48: Oprawa do nadbudowania CELLO 1xGU10 Art of Light | C48: 002169 | D48: 12.17 | E48: nie dotyczy | F48: 5900605099490 | G48: szt | H48: 12 | J48: 2 lata | K48: https://b2b.kobi.pl/pl/product/10506,oprawa-do-nabudowania-cello-1xgu10-art-of-light?currency=PLN | M48: 94051990 | N48: 0.36 | O48: 0.92 | P48: 1.012 | Q48: 0 | R48: 0 | S48: 0
B49: Spot ARLES 2xGU10 biały Kobi | C49: 002150 | D49: 14.99 | E49: nie dotyczy | F49: 5902846013617 | G49: szt | H49: 8 | I49: 224 | J49: 2 lata | K49: https://b2b.kobi.pl/pl/product/10487,spot-arles-2xgu10-bialy-kobi?currency=PLN | M49: 94051990 | N49: 0.26 | O49: 0.66 | P49: 0.726 | Q49: 0 | R49: 0 | S49: 0
B50: Spot ARLES 1xGU10 biały Kobi | C50: 002149 | D50: 7.9 | E50: nie dotyczy | F50: 5902846013600 | G50: szt | H50: 12 | I50: 480 | J50: 2 lata | K50: https://b2b.kobi.pl/pl/product/10486,spot-arles-1xgu10-bialy-kobi?currency=PLN | M50: 94051990 | N50: 0.13 | O50: 0.33 | P50: 0.363 | Q50: 0 | R50: 0 | S50: 0
B51: Downlight OSLO 14W 3000K biały Art of Light | C51: 002144 | D51: 19.9 | E51: G | F51: 5902846011460 | G51: szt | H51: 24 | J51: 2 lata | K51: https://b2b.kobi.pl/pl/product/10481,downlight-oslo-14w-3000k-bialy-art-of-light?currency=PLN | L51: https://eprel.ec.europa.eu/qr/929210 | M51: 94054239 | N51: 0.51 | O51: 0.6 | P51: 0.72 | Q51: 13.2 | R51: 13 | S51: 13.4
B52: Oprawa sufitowa LAHTI mini dim 2x9W 3000K czarna Art of Light | C52: 002137 | D52: 39 | E52: G | F52: 5902201305838 | G52: szt | H52: 12 | J52: 2 lata | K52: https://b2b.kobi.pl/pl/product/10474,oprawa-sufitowa-lahti-mini-dim-2x9w-3000k-czarna-art-of-light?currency=PLN | L52: https://eprel.ec.europa.eu/qr/856894 | M52: 94051190 | N52: 0.72 | O52: 0.857 | P52: 0.98 | Q52: 8 | R52: 6 | S52: 13
B53: Oprawa sufitowa TORSO 2xGU10 Art of Light | C53: 002124 | D53: 10.65 | E53: nie dotyczy | F53: 5900605098899 | G53: szt | H53: 12 | J53: 2 lata | K53: https://b2b.kobi.pl/pl/product/10461,oprawa-sufitowa-torso-2xgu10-art-of-light?currency=PLN | M53: 94051990 | N53: 0.42 | O53: 1.08 | P53: 1.264 | Q53: 16.2 | R53: 27.1 | S53: 11.1
B54: Pierścień ozdobny STAR MINI QUADRAT chrom JVS | C54: 002121 | D54: 2.61 | E54: nie dotyczy | F54: 4251292420755 | G54: szt | H54: 100 | J54: 2 lata | K54: https://b2b.kobi.pl/pl/product/10458,pierscien-ozdobny-star-mini-quadrat-chrom-jvs?currency=PLN | M54: 94051990 | N54: 0 | O54: 0.08 | P54: 0.088 | Q54: 0 | R54: 0 | S54: 0
B55: Pierścień ozdobny OH47 biały Kobi | C55: 002110 | D55: 2.1 | E55: nie dotyczy | F55: 5900605097991 | G55: szt | H55: 50 | J55: 2 lata | K55: https://b2b.kobi.pl/pl/product/10447,pierscien-ozdobny-oh47-bialy-kobi?currency=PLN | M55: 94051990 | N55: 0.04 | O55: 0.1 | P55: 0.11 | Q55: 0 | R55: 0 | S55: 0
B56: Oprawa sufitowa OH44 Kobi | C56: 002109 | D56: 18.29 | E56: nie dotyczy | F56: 5900605097359 | G56: szt | H56: 10 | J56: 2 lata | K56: https://b2b.kobi.pl/pl/product/10446,oprawa-sufitowa-oh44-kobi?currency=PLN | M56: 94051990 | N56: 0.48 | O56: 1.24 | P56: 1.364 | Q56: 0 | R56: 0 | S56: 0
B57: Oprawa do nadbudowania OH37 L czarna Kobi | C57: 002103 | D57: 17.87 | E57: nie dotyczy | F57: 5900605098738 | G57: szt | H57: 20 | J57: 2 lata | K57: https://b2b.kobi.pl/pl/product/10440,oprawa-do-nadbudowania-oh37-l-czarna-kobi?currency=PLN | M57: 94051990 | N57: 0.27 | O57: 0.691 | P57: 0.75 | Q57: 10.6 | R57: 10.6 | S57: 11
B58: Oprawa do nadbudowania OH37 L biała Kobi | C58: 002101 | D58: 10.65 | E58: nie dotyczy | F58: 5900605098691 | G58: szt | H58: 20 | J58: 2 lata | K58: https://b2b.kobi.pl/pl/product/10438,oprawa-do-nadbudowania-oh37-l-biala-kobi?currency=PLN | M58: 94051990 | N58: 0.27 | O58: 0.691 | P58: 0.75 | Q58: 10.6 | R58: 10.6 | S58: 11
B59: Oprawa do nadbudowania OH37 biała Kobi | C59: 002098 | D59: 10.65 | E59: nie dotyczy | F59: 5900605096765 | G59: szt | H59: 20 | I59: 980 | J59: 2 lata | K59: https://b2b.kobi.pl/pl/product/10435,oprawa-do-nadbudowania-oh37-biala-kobi?currency=PLN | M59: 94051990 | N59: 0.21 | O59: 0.536 | P59: 0.686 | Q59: 10.6 | R59: 10.6 | S59: 11
B60: Pierścień ozdobny OH34 IP44 mat chrom Kobi | C60: 002084 | D60: 2.99 | E60: nie dotyczy | F60: 5900605096734 | G60: szt | H60: 50 | I60: 2000 | J60: 2 lata | K60: https://b2b.kobi.pl/pl/product/10421,pierscien-ozdobny-oh34-ip44-mat-chrom-kobi?currency=PLN | M60: 94059900 | N60: 0 | O60: 0.119 | P60: 0.144 | Q60: 8.5 | R60: 8.5 | S60: 5
B61: Pierścień ozdobny OH227 przezroczysty Kobi | C61: 002053 | D61: 7.66 | E61: nie dotyczy | F61: 5900605096710 | G61: szt | H61: 25 | J61: 2 lata | K61: https://b2b.kobi.pl/pl/product/10390,pierscien-ozdobny-oh227-przezroczysty-kobi?currency=PLN | M61: 94059190 | N61: 0 | O61: 0.29 | P61: 0.319 | Q61: 0 | R61: 0 | S61: 0
B62: Oprawa do nadbudowania MANGO SQUARE biała Kobi | C62: 002032 | D62: 6.99 | E62: nie dotyczy | F62: 5902846016571 | G62: szt | H62: 20 | I62: 1680 | J62: 2 lata | K62: https://b2b.kobi.pl/pl/product/10369,oprawa-do-nabudowania-mango-square-biala-kobi?currency=PLN | M62: 94051990 | N62: 0.16 | O62: 0.41 | P62: 0.451 | Q62: 0 | R62: 0 | S62: 0
B63: Pierścień ozdobny BETONPOINT R-B schwarz JVS | C63: 002021 | D63: 12.37 | E63: nie dotyczy | F63: 4251292455801 | G63: szt | H63: 50 | I63: 600 | J63: 2 lata | K63: https://b2b.kobi.pl/pl/product/10358,pierscien-ozdobny-betonpoint-r-b-schwarz-jvs?currency=PLN | M63: 94059900 | N63: 0 | O63: 0.12 | P63: 0.132 | Q63: 0 | R63: 0 | S63: 0
B64: Pierścień ozdobny BETONPOINT Q-S chrom JVS | C64: 002020 | D64: 15.05 | E64: nie dotyczy | F64: 4251292455771 | G64: szt | H64: 50 | I64: 600 | J64: 2 lata | K64: https://b2b.kobi.pl/pl/product/10357,pierscien-ozdobny-betonpoint-q-s-chrom-jvs?currency=PLN | M64: 94059900 | N64: 0 | O64: 0.14 | P64: 0.154 | Q64: 0 | R64: 0 | S64: 0
B65: Downlight AQUA SLIM G5,3/GU10 IP44 chrom JVS | C65: 002018 | D65: 5.22 | E65: nie dotyczy | F65: 4251292406759 | G65: szt | H65: 100 | J65: 2 lata | K65: https://b2b.kobi.pl/pl/product/10355,downlight-aqua-slim-g5-3-gu10-ip44-chrom-jvs?currency=PLN | M65: 94051990 | N65: 0 | O65: 0.04 | P65: 0.044 | Q65: 0 | R65: 0 | S65: 0
B66: Downlight AQUA G5,3/GU10 IP44 matowy chrom JVS | C66: 002017 | D66: 7.96 | E66: nie dotyczy | F66: 4251292406735 | G66: szt | H66: 80 | J66: 2 lata | K66: https://b2b.kobi.pl/pl/product/10354,downlight-aqua-g5-3-gu10-ip44-matowy-chrom-jvs?currency=PLN | M66: 94051990 | N66: 0 | O66: 0.04 | P66: 0.044 | Q66: 0 | R66: 0 | S66: 0
B67: Downlight FRESCO 2xGU10 Art of Light | C67: 002016 | D67: 10.65 | E67: nie dotyczy | F67: 5900605098905 | G67: szt | H67: 12 | J67: 2 lata | K67: https://b2b.kobi.pl/pl/product/10353,downlight-fresco-2xgu10-art-of-light?currency=PLN | M67: 94051990 | N67: 0.53 | O67: 1.36 | P67: 1.603 | Q67: 20 | R67: 29.5 | S67: 19.6
B68: Pierścień ozdobny CRISTAL R czarny JVS | C68: 002013 | D68: 5.37 | E68: nie dotyczy | F68: 4251292424203 | G68: szt | H68: 50 | J68: 2 lata | K68: https://b2b.kobi.pl/pl/product/10350,pierscien-ozdobny-cristal-r-czarny-jvs?currency=PLN | M68: 94059190 | N68: 0 | O68: 0.13 | P68: 0.143 | Q68: 0 | R68: 0 | S68: 0
B69: Pierścień ozdobny BARI SQUARE chrom Kobi | C69: 002012 | D69: 2.99 | E69: nie dotyczy | F69: 5902846014652 | G69: szt | H69: 50 | J69: 2 lata | K69: https://b2b.kobi.pl/pl/product/10349,pierscien-ozdobny-bari-square-chrom-kobi?currency=PLN | M69: 94051990 | N69: 0 | O69: 0.14 | P69: 0.187 | Q69: 10.5 | R69: 4.5 | S69: 12.5
B70: Pierścień ozdobny BARI ROUND czarny Kobi | C70: 002009 | D70: 5.99 | E70: nie dotyczy | F70: 5902846014683 | G70: szt | H70: 50 | J70: 2 lata | K70: https://b2b.kobi.pl/pl/product/10346,pierscien-ozdobny-bari-round-czarny-kobi?currency=PLN | M70: 94051990 | N70: 0 | O70: 0.12 | P70: 0.177 | Q70: 10.5 | R70: 4.5 | S70: 12.5
B71: Kinkiet BIANCO 1xGU10 Art of Light | C71: 002008 | D71: 13.43 | E71: nie dotyczy | F71: 5900605098943 | G71: szt | H71: 3 | I71: 54 | J71: 2 lata | K71: https://b2b.kobi.pl/pl/product/10345,kinkiet-bianco-1xgu10-art-of-light?currency=PLN | M71: 94051990 | N71: 1.47 | O71: 3.77 | P71: 4.15 | Q71: 0 | R71: 0 | S71: 0
B72: Oprawa do nadbudowania AQUARIUS 1xGU10 kwadrat IP44 chrom Kobi | C72: 002006 | D72: 16.02 | E72: nie dotyczy | F72: 5902846014621 | G72: szt | H72: 20 | J72: 2 lata | K72: https://b2b.kobi.pl/pl/product/10343,oprawa-do-nabudowania-aquarius-1xgu10-kwadrat-ip44-chrom-kobi?currency=PLN | M72: 94051990 | N72: 0.25 | O72: 0.648 | P72: 0.798 | Q72: 9 | R72: 9 | S72: 11
B73: Lampka biurkowa LED LIZBONA 3,5W IP54 Czarna Kobi Premium | C73: 001966 | D73: 29 | E73: nie dotyczy | F73: 5902201368246 | G73: szt | H73: 12 | I73: 144 | J73: 2 lata | K73: https://b2b.kobi.pl/pl/product/10303,lampka-biurkowa-led-lizbona-3-5w-ip54-czarna-kobi-premium?currency=PLN | M73: 94052140 | N73: 0.67 | O73: 0.79 | P73: 0.869 | Q73: 0 | R73: 0 | S73: 0
B74: Lampka biurkowa LED LIZBONA 3,5W IP54 Biała Kobi Premium | C74: 001965 | D74: 29 | E74: nie dotyczy | F74: 5902201368253 | G74: szt | H74: 12 | I74: 144 | J74: 2 lata | K74: https://b2b.kobi.pl/pl/product/10302,lampka-biurkowa-led-lizbona-3-5w-ip54-biala-kobi-premium?currency=PLN | M74: 94052140 | N74: 0.67 | O74: 0.79 | P74: 0.869 | Q74: 0 | R74: 0 | S74: 0
B75: Downlight LED SATURN 6W 4000K Kobi Premium | C75: 001860 | D75: 5.29 | E75: nie dotyczy | F75: 5902201304657 | G75: szt | H75: 40 | I75: 1200 | J75: 3 lata | K75: https://b2b.kobi.pl/pl/product/10197,downlight-led-saturn-6w-4000k-kobi-premium?currency=PLN | L75: https://eprel.ec.europa.eu/qr/933947 | M75: 94051190 | N75: 0.07 | O75: 0.085 | P75: 0.158 | Q75: 13.5 | R75: 13.5 | S75: 4.5
B76: Downlight LED SATURN 12W 4000K Kobi Premium | C76: 001857 | D76: 8.63 | E76: nie dotyczy | F76: 5902201304732 | G76: szt | H76: 40 | I76: 640 | J76: 3 lata | K76: https://b2b.kobi.pl/pl/product/10194,downlight-led-saturn-12w-4000k-kobi-premium?currency=PLN | L76: https://eprel.ec.europa.eu/qr/933950 | M76: 94051190 | N76: 0.12 | O76: 0.137 | P76: 0.235 | Q76: 18.5 | R76: 18.5 | S76: 5
B77: Uchwyt do LED RIO PRO 200W Kobi | C77: 001846 | D77: 19 | E77: nie dotyczy | F77: 5902201369755 | G77: szt | H77: 36 | J77: 2 lata | K77: https://b2b.kobi.pl/pl/product/10183,uchwyt-do-led-rio-pro-200w-kobi?currency=PLN | M77: 94059900 | N77: 0 | O77: 0.25 | P77: 0.275 | Q77: 0 | R77: 0 | S77: 0
B78: Uchwyt do LED RIO PRO 150W Kobi | C78: 001845 | D78: 16 | E78: nie dotyczy | F78: 5902201369748 | G78: szt | H78: 54 | J78: 2 lata | K78: https://b2b.kobi.pl/pl/product/10182,uchwyt-do-led-rio-pro-150w-kobi?currency=PLN | M78: 94059900 | N78: 0 | O78: 0.24 | P78: 0.264 | Q78: 0 | R78: 0 | S78: 0
B79: Oprawa linowa LED KOLINE K1 40W 4000K biała Kobi Pro | C79: 001620 | D79: 62.99 | E79: D | F79: 5902201368697 | G79: szt | H79: 9 | I79: 216 | J79: 5 lat | K79: https://b2b.kobi.pl/pl/product/9957,oprawa-linowa-led-koline-k1-40w-4000k-biala-kobi-pro?currency=PLN | L79: https://eprel.ec.europa.eu/qr/1774334 | M79: 94054239 | N79: 1.31 | O79: 1.55 | P79: 1.74 | Q79: 123 | R79: 5.5 | S79: 8
B80: Oprawa linowa LED KOLINE K1 20W 4000K czarna Kobi Pro | C80: 001618 | D80: 49 | E80: C | F80: 5902201368680 | G80: szt | H80: 9 | I80: 216 | J80: 5 lat | K80: https://b2b.kobi.pl/pl/product/9955,oprawa-linowa-led-koline-k1-20w-4000k-czarna-kobi-pro?currency=PLN | L80: https://eprel.ec.europa.eu/qr/1774321 | M80: 94054239 | N80: 1.31 | O80: 1.55 | P80: 1.64 | Q80: 123 | R80: 5.5 | S80: 8
B81: Oprawa linowa LED KOLINE K1 20W 4000K biała Kobi Pro | C81: 001615 | D81: 49 | E81: C | F81: 5902201368673 | G81: szt | H81: 9 | I81: 216 | J81: 5 lat | K81: https://b2b.kobi.pl/pl/product/9952,oprawa-linowa-led-koline-k1-20w-4000k-biala-kobi-pro?currency=PLN | L81: https://eprel.ec.europa.eu/qr/1774321 | M81: 94054239 | N81: 1.31 | O81: 1.55 | P81: 1.64 | Q81: 123 | R81: 5.5 | S81: 8
B82: Oprawa liniowa LED DELGADO 45W 150cm 3000K Kobi | C82: 001591 | D82: 38.92 | E82: F | F82: 5902201302325 | G82: szt | H82: 25 | I82: 200 | J82: 2 lata | K82: https://b2b.kobi.pl/pl/product/9928,oprawa-liniowa-led-dlegado-45w-150cm-3000k-kobi?currency=PLN | L82: https://eprel.ec.europa.eu/qr/933970 | M82: 94051140 | N82: 0.26 | O82: 0.309 | P82: 0.56 | Q82: 151 | R82: 10 | S82: 3
B83: Panel LED CAPRI 40W 60x60 3000K Kobi Pro | C83: 001574 | D83: 29 | E83: E | F83: 5902846015284 | G83: szt | H83: 6 | I83: 66 | J83: 5 lat | K83: https://b2b.kobi.pl/pl/product/9911,panel-led-capri-40w-60x60-3000k-kobi-pro?currency=PLN | L83: https://eprel.ec.europa.eu/qr/1939576 | M83: 94054239 | N83: 1.26 | O83: 1.486 | P83: 1.849 | Q83: 60 | R83: 60 | S83: 3.5
B84: Zasilacz 12V 24W do VENEZIA + Kabel 47cm | C84: 001518 | D84: 7.76 | E84: nie dotyczy | F84: 5902201384437 | G84: szt | K84: https://b2b.kobi.pl/pl/product/9855,zasilacz-12v-24w-do-venezia-kabel-47cm?currency=PLN | M84: 85044095 | N84: 0 | O84: 0.14 | P84: 0.154 | Q84: 0 | R84: 0 | S84: 0
B85: Klosz do zestawu CRETE LS D1 czarny 5 sztuk Kobi Design | C85: 001443 | D85: 17.75 | E85: nie dotyczy | F85: 5902201373608 | G85: kpl | H85: 20 | I85: 120 | J85: 2 lata | K85: https://b2b.kobi.pl/pl/product/9780,klosz-do-zestawu-crete-ls-d1-czarny-5-sztuk-kobi-design?currency=PLN | M85: 94059900 | N85: 0 | O85: 0.25 | P85: 0.4 | Q85: 0 | R85: 0 | S85: 0
B86: Klosz do zestawu CRETE LS M2 czarny 5 sztuk Kobi Design | C86: 001442 | D86: 14.25 | E86: nie dotyczy | F86: 5902201373592 | G86: kpl | H86: 20 | I86: 360 | J86: 2 lata | K86: https://b2b.kobi.pl/pl/product/9779,klosz-do-zestawu-crete-ls-m2-czarny-5-sztuk-kobi-design?currency=PLN | M86: 94059900 | N86: 0 | O86: 0.72 | P86: 0.895 | Q86: 8 | R86: 20 | S86: 19.5
B87: Klosz do zestawu CRETE LS M1 czarny 5 sztuk Kobi Design | C87: 001441 | D87: 15.5 | E87: nie dotyczy | F87: 5902201373585 | G87: kpl | H87: 20 | I87: 440 | J87: 2 lata | K87: https://b2b.kobi.pl/pl/product/9778,klosz-do-zestawu-crete-ls-m1-czarny-5-sztuk-kobi-design?currency=PLN | M87: 94059900 | N87: 0 | O87: 0.72 | P87: 0.9 | Q87: 20.5 | R87: 20.5 | S87: 5.5
B88: Girlanda CRETE 5xE27 5m Kobi Design | C88: 001440 | D88: 21.5 | E88: nie dotyczy | F88: 5902201373578 | G88: szt | H88: 4 | J88: 2 lata | K88: https://b2b.kobi.pl/pl/product/9777,girlanda-crete-5xe27-5m-kobi-design?currency=PLN | M88: 94054990 | N88: 0.32 | O88: 0.83 | P88: 1 | Q88: 29 | R88: 12 | S88: 12
B89: Przewód zasilający CRETE PC 10m Kobi Design | C89: 001439 | D89: 15.65 | E89: nie dotyczy | F89: 5902201373561 | G89: szt | H89: 20 | J89: 2 lata | K89: https://b2b.kobi.pl/pl/product/9776,przewod-zasilajacy-crete-pc-10m-kobi-design?currency=PLN | M89: 85444290 | N89: 0.3 | O89: 0.78 | P89: 0.94 | Q89: 38 | R89: 12 | S89: 6
B90: Przewód zasilający CRETE PC 5m Kobi Design | C90: 001438 | D90: 8.65 | E90: nie dotyczy | F90: 5902201373554 | G90: szt | H90: 40 | J90: 2 lata | K90: https://b2b.kobi.pl/pl/product/9775,przewod-zasilajacy-crete-pc-5m-kobi-design?currency=PLN | M90: 85444290 | N90: 0.17 | O90: 0.44 | P90: 0.53 | Q90: 30.5 | R90: 10 | S90: 5
B91: Lampa wisząca LED VENEZIA H 1,5W 2500K Kobi Design | C91: 001437 | D91: 39 | E91: nie dotyczy | F91: 5902201373653 | G91: szt | H91: 8 | I91: 96 | J91: 2 lata | K91: https://b2b.kobi.pl/pl/product/9774,lampa-wiszaca-led-venezia-h-1-5w-2500k-kobi-design?currency=PLN | M91: 85395200 | N91: 0.62 | O91: 0.73 | P91: 0.8 | Q91: 23.5 | R91: 23.5 | S91: 20
B92: Girlanda LED VENEZIA 10W Kobi Design | C92: 001435 | D92: 59 | E92: nie dotyczy | F92: 5902201373639 | G92: szt | H92: 8 | I92: 84 | J92: 2 lata | K92: https://b2b.kobi.pl/pl/product/9772,girlanda-led-venezia-10w-kobi-design?currency=PLN | L92: https://eprel.ec.europa.eu/qr/2032423 | M92: 94054131 | N92: 1.42 | O92: 1.68 | P92: 1.92 | Q92: 51.5 | R92: 21 | S92: 12
B93: Taśma LUMOS LED SET 3m 4000K IP20 Kobi | C93: 001427 | D93: 19.9 | E93: F | F93: 5902201359565 | G93: szt | H93: 20 | I93: 500 | J93: 2 lata | K93: https://b2b.kobi.pl/pl/product/9764,tasma-lumos-led-set-3m-4000k-ip20-kobi?currency=PLN | L93: https://eprel.ec.europa.eu/qr/1572019 | M93: 94054231 | N93: 0.15 | O93: 0.18 | P93: 0.198 | Q93: 0 | R93: 0 | S93: 0
B94: Taśma LUMOS LED SET 3m 3000K IP20 Kobi | C94: 001426 | D94: 19.9 | E94: F | F94: 5902201359558 | G94: szt | H94: 20 | I94: 500 | J94: 2 lata | K94: https://b2b.kobi.pl/pl/product/9763,tasma-lumos-led-set-3m-3000k-ip20-kobi?currency=PLN | L94: https://eprel.ec.europa.eu/qr/1572012 | M94: 94054231 | N94: 0.15 | O94: 0.18 | P94: 0.198 | Q94: 0 | R94: 0 | S94: 0
B95: Taśma LED TRAMO 300 2835 5m zielona IP20 Kobi | C95: 001408 | D95: 8 | E95: nie dotyczy | F95: 5902201301144 | G95: szt | H95: 50 | J95: 2 lata | K95: https://b2b.kobi.pl/pl/product/9745,tasma-led-tramo-300-2835-5m-zielona-ip20-kobi?currency=PLN | M95: 94054231 | N95: 0.03 | O95: 0.036 | P95: 0.144 | Q95: 16 | R95: 19 | S95: 1.5
B96: Taśma LED TRAMO 300 2835 5m żółta IP65 Kobi | C96: 001402 | D96: 14 | E96: nie dotyczy | F96: 5902201301175 | G96: szt | H96: 50 | J96: 2 lata | K96: https://b2b.kobi.pl/pl/product/9739,tasma-led-tramo-300-2835-5m-zolta-ip65-kobi?currency=PLN | M96: 94054231 | N96: 0.06 | O96: 0.07 | P96: 0.154 | Q96: 16 | R96: 19 | S96: 1.5
B97: Świetlówka LED T8 18W 120cm 6500K Kobi Premium | C97: 001382 | D97: 0.81 | E97: E | F97: 5902846016229 | G97: szt | H97: 25 | I97: 900 | J97: 3 lata | K97: https://b2b.kobi.pl/pl/product/9719,swietlowka-led-t8-18w-120cm-6500k-kobi-premium?currency=PLN | L97: https://eprel.ec.europa.eu/qr/660793 | M97: 85395200 | N97: 0.15 | O97: 0.183 | P97: 0.275 | Q97: 122.4 | R97: 3 | S97: 3
B98: Świetlówka LED T8 18W 120cm 3000K Kobi Premium | C98: 001380 | D98: 5.5 | E98: E | F98: 5902201359442 | G98: szt | H98: 25 | I98: 900 | J98: 3 lata | K98: https://b2b.kobi.pl/pl/product/9717,swietlowka-led-t8-18w-120cm-3000k-kobi-premium?currency=PLN | L98: https://eprel.ec.europa.eu/qr/1420718 | M98: 85395200 | N98: 0.19 | O98: 0.22 | P98: 0.275 | Q98: 122.4 | R98: 3 | S98: 3
B99: Świetlówka LED T8 22W 150CM 4000K LED2B | C99: 001312 | D99: 0.81 | E99: F | F99: 5902846016298 | G99: szt | H99: 25 | I99: 700 | J99: 2 lata | K99: https://b2b.kobi.pl/pl/product/9649,swietlowka-led-t8-22w-150cm-4000k-led2b?currency=PLN | L99: https://eprel.ec.europa.eu/qr/914694 | M99: 85395200 | N99: 0.18 | O99: 0.208 | P99: 0.284 | Q99: 150 | R99: 3.4 | S99: 3.4
B100: Żarówka LED G9 6W 6000K Kobi | C100: 001169 | D100: 3.5 | E100: F | F100: 5902201300901 | G100: szt | H100: 200 | J100: 2 lata | K100: https://b2b.kobi.pl/pl/product/9506,zarowka-led-g9-6w-6000k-kobi?currency=PLN | L100: https://eprel.ec.europa.eu/qr/659806 | M100: 85395200 | N100: 0.02 | O100: 0.02 | P100: 0.02 | Q100: 6 | R100: 2 | S100: 2
...
