Workbook

Sheet Rabat
B3: CENNIK PODSTAWOWY
B4: KOBI LIGHT SP. Z O.O.
B6: obowiązujący od dnia: | C6: 12.10.2026
C8: GRUPA | D8: WPISZ RABAT %
B9: ŹRÓDŁA | C9: Tuby LED T8 | D9: 0
C10: Taśmy LED | D10: 0
C11: Żarówki LED | D11: 0
B13: OPRAWY PRZEMYSŁOWE | C13: Panele | D13: 0
C14: High bay | D14: 0
C15: Naświetlacze solarne | D15: 0
C16: Plafony | D16: 0
C17: Liniowe LED | D17: 0
C18: Downlight | D18: 0
C19: Uliczne | D19: 0
C20: Liniowe hermetyczne | D20: 0
C21: Szynoprzewód i akcesoria | D21: 0
C22: Uliczne solarne | D22: 0
C23: Naświetlacze LED | D23: 0
C24: Liniowe niehermetyczne | D24: 0
C25: Oprawy techniczne | D25: 0
C26: Oprawy na szynoprzewód | D26: 0
B28: OPRAWY DOMOWE | C28: Dekoracyjne podtynkowe | D28: 0
C29: Girlandy | D29: 0
C30: Lampy wiszące | D30: 0
C31: Ogrodowe | D31: 0
C32: Ogrodowe solarne | D32: 0
C33: Wzrost roślin | D33: 0
C34: Lampki biurkowe | D34: 0
C35: Dekoracyjne natynkowe | D35: 0
C36: Meblowe | D36: 0
B38: AKCESORIA | C38: Akcesoria | D38: 0
C39: Profile aluminiowe | D39: 0
B41: URZĄDZENIA ELEKTRYCZNE | C41: Wentylatory i termowentylatory | D41: 0
C43: Nowości | D43: 0
B46: ceny cennikowe zawierają opłaty KGO
B47: ceny cennikowe nie zawierają podatku VAT (ceny netto)
B49: BDO: 000003217 | D49: www.kobi.pl

Sheet Cennik
C1: Cennik obowiązujący od dnia: | D1: 12.10.2026 | E1: www.kobi.pl
A2: Zdjęcie | B2: Kategoria | C2: Podkategoria | D2: Marka | E2: Artykuł | F2: Kod | G2: Grupa rabatowa | H2: Cena cennikowa | I2: Cena po rabacie | J2: EEI | K2: Kod EAN | L2: jm | M2: Ilość w opakowaniu zbiorczym | N2: Ilość na palecie | O2: Gwarancja | P2: WWW | Q2: Eprel | R2: Uwagi | S2: CN | T2: KGO | U2: Waga netto (kg) | V2: Waga brutto (kg) | W2: Długość (cm) | X2: Szerokość (cm) | Y2: Wysokość (cm)
B3: OSPRZĘT ELEKTROINSTALACYJNY | C3: AKCESORIA | D3: Kobi | E3: Moduł zasilacza wodoodporny 12V 60W 5,0A IP67 | F3: 005695 | G3: Akcesoria | H3: 137 | I3: =$H3*(1-Rabat!$D$38) -> 137 | J3: nie dotyczy | K3: 5902479642192 | L3: szt | M3: 1 | O3: 2 lata | Q3: https://eprel.ec.europa.eu/qr/nie dotyczy | S3: 85044095 | T3: 0 | U3: 0.25 | V3: 0.27 | W3: 7 | X3: 20 | Y3: 5
B4: OSPRZĘT ELEKTROINSTALACYJNY | C4: AKCESORIA | D4: Kobi | E4: Moduł zasilacza wodoodporny 24V 150W 6,25A IP67 | F4: 005685 | G4: Akcesoria | H4: 298.83 | I4: =$H4*(1-Rabat!$D$38) -> 298.83 | J4: nie dotyczy | K4: 5902479642246 | L4: szt | M4: 1 | O4: 2 lata | P4: https://b2b.kobi.pl/pl/product/14141,modul-zasilacza-wodoodporny-24v-150w-6-25a-ip67?currency=PLN | Q4: https://eprel.ec.europa.eu/qr/nie dotyczy | S4: 85044095 | T4: 0 | U4: 0.61 | V4: 0.64 | W4: 26 | X4: 8.7 | Y4: 3
B5: OSPRZĘT ELEKTROINSTALACYJNY | C5: AKCESORIA | D5: Kobi | E5: Moduł zasilacza montażowy 12V 35W 3,0A | F5: 005684 | G5: Akcesoria | H5: 57 | I5: =$H5*(1-Rabat!$D$38) -> 57 | J5: nie dotyczy | K5: 5902479642116 | L5: szt | M5: 1 | O5: 2 lata | P5: https://b2b.kobi.pl/pl/product/14140,modul-zasilacza-montazowy-12v-35w-3-0a?currency=PLN | Q5: https://eprel.ec.europa.eu/qr/nie dotyczy | S5: 85044095 | T5: 0 | U5: 0.104 | V5: 0.119 | W5: 6.4 | X5: 9.4 | Y5: 4
B6: OSPRZĘT ELEKTROINSTALACYJNY | C6: AKCESORIA | D6: Kobi | E6: Moduł zasilacza wodoodporny 24V 200W 8.30A IP67 | F6: 005648 | G6: Akcesoria | H6: 352.75 | I6: =$H6*(1-Rabat!$D$38) -> 352.75 | J6: nie dotyczy | K6: 5902479641935 | L6: szt | M6: 1 | O6: 2 lata | P6: https://b2b.kobi.pl/pl/product/14104,modul-zasilacza-wodoodporny-24v-200w-8-30a-ip67?currency=PLN | Q6: https://eprel.ec.europa.eu/qr/nie dotyczy | S6: 85044095 | T6: 0 | U6: 0.75 | V6: 0.78 | W6: 26 | X6: 9 | Y6: 3.1
B7: OSPRZĘT ELEKTROINSTALACYJNY | C7: AKCESORIA | D7: Kobi | E7: Moduł zasilacza montażowy 12V 60W 5,0A | F7: 005597 | G7: Akcesoria | H7: 68 | I7: =$H7*(1-Rabat!$D$38) -> 68 | J7: nie dotyczy | K7: 5902479642000 | L7: szt | M7: 1 | O7: 2 lata | Q7: https://eprel.ec.europa.eu/qr/nie dotyczy | S7: 85044095 | T7: 0 | U7: 0.12 | V7: 0.143 | W7: 9 | X7: 4 | Y7: 6
B8: OSPRZĘT ELEKTROINSTALACYJNY | C8: AKCESORIA | D8: Kobi | E8: Moduł zasilacza montażowy 12V 100W 8,3A | F8: 005596 | G8: Akcesoria | H8: 125 | I8: =$H8*(1-Rabat!$D$38) -> 125 | J8: nie dotyczy | K8: 5902479642123 | L8: szt | M8: 1 | O8: 2 lata | P8: https://b2b.kobi.pl/pl/product/14050,modul-zasilacza-montazowy-12v-100w-8-3a?currency=PLN | Q8: https://eprel.ec.europa.eu/qr/nie dotyczy | S8: 85044095 | T8: 0 | U8: 0.182 | V8: 0.204 | W8: 4.2 | X8: 12.1 | Y8: 8.1
B9: OPRAWY PRZEMYSŁOWE | C9: PANELE LED | D9: Kobi Premium | E9: Panel LED DAVRO 40W 60x60 4000K Kobi Premium | F9: 005482 | G9: Nowości | H9: 84.44 | I9: =$H9*(1-Rabat!$D$43) -> 84.44 | J9: nie dotyczy | K9: 5907178030639 | L9: szt | M9: 6 | O9: 5 lat | P9: https://b2b.kobi.pl/pl/product/13936,panel-led-davro-40w-60x60-4000k-kobi-premium?currency=PLN | Q9: https://eprel.ec.europa.eu/qr/2858448 | R9: nowość | S9: 94054239 | T9: 1.1 | U9: 1.3 | V9: 1.6 | W9: 60.5 | X9: 65 | Y9: 3.2
B10: OSPRZĘT ELEKTROINSTALACYJNY | C10: AKCESORIA | D10: Kobi | E10: Zasilacz desktop 12V 36W 3,0A wtyk DC 2,1x5,5 | F10: 005477 | G10: Akcesoria | H10: 59.5 | I10: =$H10*(1-Rabat!$D$38) -> 59.5 | J10: nie dotyczy | K10: 5902479642345 | L10: szt | M10: 1 | O10: 2 lata | P10: https://b2b.kobi.pl/pl/product/13931,zasilacz-desktop-12v-36w-3-0a-wtyk-dc-2-1x5-5?currency=PLN | Q10: https://eprel.ec.europa.eu/qr/nie dotyczy | S10: 85044095 | T10: 0 | U10: 0.25 | V10: 0.276 | W10: 16 | X10: 10 | Y10: 4
B11: OSPRZĘT ELEKTROINSTALACYJNY | C11: AKCESORIA | D11: Kobi | E11: Programator PC24 Schuko Kobi | F11: 005456 | G11: Akcesoria | H11: 24.75 | I11: =$H11*(1-Rabat!$D$38) -> 24.75 | J11: nie dotyczy | K11: 5907178030479 | L11: szt | M11: 60 | O11: 2 lata | P11: https://b2b.kobi.pl/pl/product/13910,programator-pc24-schuko-kobi?currency=PLN | R11: nowość | S11: 91070000 | T11: 0.06 | U11: 0.144 | V11: 0.169 | W11: 7.2 | X11: 8.4 | Y11: 12
B12: OPRAWY PRZEMYSŁOWE | C12: PANELE LED | D12: Kobi Premium | E12: Panel LED DAVRO 40W UGR<19 60x60 4000K Kobi Premium | F12: 005427 | G12: Nowości | H12: 111.09 | I12: =$H12*(1-Rabat!$D$43) -> 111.09 | J12: nie dotyczy | K12: 5907178030400 | L12: szt | M12: 6 | N12: 72 | O12: 5 lat | P12: https://b2b.kobi.pl/pl/product/13881,panel-led-davro-40w-ugr-19-60x60-4000k-kobi-premium?currency=PLN | Q12: https://eprel.ec.europa.eu/qr/2858448 | R12: nowość | S12: 94054239 | T12: 1.18 | U12: 1.4 | V12: 1.7 | W12: 60.5 | X12: 65 | Y12: 3.2
B13: ŹRÓDŁA | C13: ŻARÓWKI LED | D13: Kobi | E13: Żarówka LED GU10 9W 900lm 6000K Kobi | F13: 005371 | G13: Żarówki LED | H13: 11.82 | I13: =$H13*(1-Rabat!$D$11) -> 11.82 | J13: E | K13: 5907178029954 | L13: szt | M13: 100 | O13: 2 lata | P13: https://b2b.kobi.pl/pl/product/13825,zarowka-led-gu10-9w-900lm-6000k-kobi?currency=PLN | Q13: https://eprel.ec.europa.eu/qr/2740174 | R13: nowość | S13: 85395200 | T13: 0.02 | U13: 0.022 | V13: 0.029 | W13: 5 | X13: 6.5 | Y13: 5
B14: ŹRÓDŁA | C14: ŻARÓWKI LED | D14: Kobi | E14: Żarówka LED GU10 9W 900lm 4000K Kobi | F14: 005370 | G14: Żarówki LED | H14: 11.82 | I14: =$H14*(1-Rabat!$D$11) -> 11.82 | J14: E | K14: 5907178029947 | L14: szt | M14: 100 | O14: 2 lata | P14: https://b2b.kobi.pl/pl/product/13824,zarowka-led-gu10-9w-900lm-4000k-kobi?currency=PLN | Q14: https://eprel.ec.europa.eu/qr/2740096 | R14: nowość | S14: 85395200 | T14: 0.02 | U14: 0.022 | V14: 0.029 | W14: 5 | X14: 6.5 | Y14: 5
B15: ŹRÓDŁA | C15: ŻARÓWKI LED | D15: Kobi | E15: Żarówka LED GU10 9W 900lm 3000K Kobi | F15: 005369 | G15: Żarówki LED | H15: 11.82 | I15: =$H15*(1-Rabat!$D$11) -> 11.82 | J15: E | K15: 5907178029930 | L15: szt | M15: 100 | O15: 2 lata | P15: https://b2b.kobi.pl/pl/product/13823,zarowka-led-gu10-9w-900lm-3000k-kobi?currency=PLN | Q15: https://eprel.ec.europa.eu/qr/2740045 | R15: nowość | S15: 85395200 | T15: 0.02 | U15: 0.022 | V15: 0.029 | W15: 5 | X15: 6.5 | Y15: 5
B16: OPRAWY PRZEMYSŁOWE | C16: SZYNOPRZEWÓD | D16: Kobi | E16: Szynoprzewód podtynkowy 3-obwodowy 2m biały Kobi | F16: 005330 | G16: Szynoprzewód i akcesoria | H16: 197.56 | I16: =$H16*(1-Rabat!$D$21) -> 197.56 | K16: 5907178028315 | L16: szt | M16: 5 | O16: 2 lata | P16: https://b2b.kobi.pl/pl/product/13784,szynoprzewod-podtynkowy-3-obwodowy-2m-bialy-kobi?currency=PLN | R16: nowość | S16: 85444995 | T16: 0 | U16: 1.73 | V16: 1.75 | W16: 200 | X16: 5.6 | Y16: 3.3
B17: OPRAWY PRZEMYSŁOWE | C17: SZYNOPRZEWÓD | D17: Kobi | E17: Szynoprzewód podtynkowy 3-obwodowy 2m czarny Kobi | F17: 005329 | G17: Szynoprzewód i akcesoria | H17: 197.56 | I17: =$H17*(1-Rabat!$D$21) -> 197.56 | K17: 5907178028308 | L17: szt | M17: 5 | O17: 2 lata | P17: https://b2b.kobi.pl/pl/product/13783,szynoprzewod-podtynkowy-3-obwodowy-2m-czarny-kobi?currency=PLN | R17: nowość | S17: 85444995 | T17: 0 | U17: 1.73 | V17: 1.75 | W17: 200 | X17: 5.6 | Y17: 3.3
B18: ŹRÓDŁA | C18: PASKI LED | D18: Kobi | E18: Profil KG02 podtynkowy czarny + przesłona czarna 1m Kobi | F18: 005328 | G18: Profile aluminiowe | H18: 20.17 | I18: =$H18 -> 20.17 | K18: 5907178028292 | L18: szt | M18: 50 | O18: 2 lata | P18: https://b2b.kobi.pl/pl/product/13782,profil-kg02-podtynkowy-czarny-przeslona-czarna-1m-kobi?currency=PLN | R18: nowość | S18: 94059900 | T18: 0 | U18: 0.188 | V18: 0.207 | W18: 108 | X18: 4 | Y18: 1.5
B19: ŹRÓDŁA | C19: PASKI LED | D19: Kobi | E19: Profil KG01 podtynkowy czarny + przesłona czarna 1m Kobi | F19: 005327 | G19: Profile aluminiowe | H19: 20.17 | I19: =$H19 -> 20.17 | K19: 5907178028285 | L19: szt | M19: 50 | O19: 2 lata | P19: https://b2b.kobi.pl/pl/product/13781,profil-kg01-podtynkowy-czarny-przeslona-czarna-1m-kobi?currency=PLN | R19: nowość | S19: 94059900 | T19: 0 | U19: 0.189 | V19: 0.208 | W19: 108 | X19: 4 | Y19: 1.3
B20: ŹRÓDŁA | C20: PASKI LED | D20: Kobi | E20: Profil N01 narożny czarny + przesłona czarna 1m Kobi | F20: 005326 | G20: Profile aluminiowe | H20: 12.97 | I20: =$H20 -> 12.97 | K20: 5907178028278 | L20: szt | M20: 50 | O20: 2 lata | P20: https://b2b.kobi.pl/pl/product/13780,profil-n01-narozny-czarny-przeslona-czarna-1m-kobi?currency=PLN | R20: nowość | S20: 94059900 | T20: 0 | U20: 0.123 | V20: 0.142 | W20: 108 | X20: 4 | Y20: 1.5
B21: ŹRÓDŁA | C21: PASKI LED | D21: Kobi | E21: Profil P02 podtynkowy czarny + przesłona czarna 1m Kobi | F21: 005325 | G21: Profile aluminiowe | H21: 9.72 | I21: =$H21 -> 9.72 | K21: 5907178028261 | L21: szt | M21: 50 | O21: 2 lata | P21: https://b2b.kobi.pl/pl/product/13779,profil-p02-podtynkowy-czarny-przeslona-czarna-1m-kobi?currency=PLN | R21: nowość | S21: 94059900 | T21: 0 | U21: 0.077 | V21: 0.096 | W21: 108 | X21: 4 | Y21: 0.6
B22: ŹRÓDŁA | C22: PASKI LED | D22: Kobi | E22: Profil P01 natynkowy czarny + przesłona czarna 1m Kobi | F22: 005324 | G22: Profile aluminiowe | H22: 9.53 | I22: =$H22 -> 9.53 | K22: 5907178028254 | L22: szt | M22: 50 | O22: 2 lata | P22: https://b2b.kobi.pl/pl/product/13778,profil-p01-natynkowy-czarny-przeslona-czarna-1m-kobi?currency=PLN | R22: nowość | S22: 94059900 | T22: 0 | U22: 0.089 | V22: 0.108 | W22: 108 | X22: 4 | Y22: 0.6
B23: ŹRÓDŁA | C23: PASKI LED | D23: Kobi | E23: Profil KG02 podtynkowy czarny + przesłona czarna 2m Kobi | F23: 005323 | G23: Profile aluminiowe | H23: 40.33 | I23: =$H23 -> 40.33 | K23: 5907178028247 | L23: szt | M23: 50 | O23: 2 lata | P23: https://b2b.kobi.pl/pl/product/13777,profil-kg02-podtynkowy-czarny-przeslona-czarna-2m-kobi?currency=PLN | R23: nowość | S23: 94059900 | T23: 0 | U23: 0.412 | V23: 0.45 | W23: 208 | X23: 4 | Y23: 1.5
B24: ŹRÓDŁA | C24: PASKI LED | D24: Kobi | E24: Profil KG01 podtynkowy czarny + przesłona czarna 2m Kobi | F24: 005322 | G24: Profile aluminiowe | H24: 40.33 | I24: =$H24 -> 40.33 | K24: 5907178028230 | L24: szt | M24: 50 | O24: 2 lata | P24: https://b2b.kobi.pl/pl/product/13776,profil-kg01-podtynkowy-czarny-przeslona-czarna-2m-kobi?currency=PLN | R24: nowość | S24: 94059900 | T24: 0 | U24: 0.405 | V24: 0.443 | W24: 208 | X24: 4 | Y24: 1.3
B25: ŹRÓDŁA | C25: PASKI LED | D25: Kobi | E25: Profil N01 narożny czarny + przesłona czarna 2m Kobi | F25: 005321 | G25: Profile aluminiowe | H25: 25.94 | I25: =$H25 -> 25.94 | K25: 5907178028223 | L25: szt | M25: 50 | O25: 2 lata | P25: https://b2b.kobi.pl/pl/product/13775,profil-n01-narozny-czarny-przeslona-czarna-2m-kobi?currency=PLN | R25: nowość | S25: 94059900 | T25: 0 | U25: 0.268 | V25: 0.306 | W25: 208 | X25: 4 | Y25: 1.5
B26: ŹRÓDŁA | C26: PASKI LED | D26: Kobi | E26: Profil P02 podtynkowy czarny + przesłona czarna 2m Kobi | F26: 005320 | G26: Profile aluminiowe | H26: 19.53 | I26: =$H26 -> 19.53 | K26: 5907178028216 | L26: szt | M26: 50 | O26: 2 lata | P26: https://b2b.kobi.pl/pl/product/13774,profil-p02-podtynkowy-czarny-przeslona-czarna-2m-kobi?currency=PLN | R26: nowość | S26: 94059900 | T26: 0 | U26: 0.174 | V26: 0.212 | W26: 208 | X26: 4 | Y26: 0.6
B27: ŹRÓDŁA | C27: PASKI LED | D27: Kobi | E27: Profil P01 natynkowy czarny + przesłona czarna 2m Kobi | F27: 005319 | G27: Profile aluminiowe | H27: 19.16 | I27: =$H27 -> 19.16 | K27: 5907178028209 | L27: szt | M27: 50 | O27: 2 lata | P27: https://b2b.kobi.pl/pl/product/13773,profil-p01-natynkowy-czarny-przeslona-czarna-2m-kobi?currency=PLN | R27: nowość | S27: 94059900 | T27: 0 | U27: 0.155 | V27: 0.193 | W27: 208 | X27: 4 | Y27: 0.6
B28: OSPRZĘT ELEKTROINSTALACYJNY | C28: AKCESORIA | D28: Kobi | E28: Moduł zasilacza wodoodporny 12V 80W 6,67A IP67 | F28: 005280 | G28: Akcesoria | H28: 184.5 | I28: =$H28*(1-Rabat!$D$38) -> 184.5 | J28: nie dotyczy | K28: 5902479642208 | L28: szt | M28: 1 | O28: 2 lata | P28: https://b2b.kobi.pl/pl/product/13734,modul-zasilacza-wodoodporny-12v-80w-6-67a-ip67?currency=PLN | Q28: https://eprel.ec.europa.eu/qr/nie dotyczy | S28: 85044095 | T28: 0 | U28: 0.81 | V28: 0.85 | W28: 4.5 | X28: 20 | Y28: 7.5
B29: OPRAWY DOMOWE | C29: LAMPY | D29: LED2B | E29: Lampa podłogowa LED TEILO 10W 3CCT biała LED2B | F29: 005232 | G29: Lampki biurkowe | H29: 172.97 | I29: =$H29*(1-Rabat!$D$34) -> 172.97 | J29: nie dotyczy | K29: 5907178026953 | L29: szt | M29: 8 | O29: 2 lata | P29: https://b2b.kobi.pl/pl/product/13685,lampa-podlogowa-led-teilo-10w-3cct-biala-led2b?currency=PLN | R29: nowość | S29: 94052190 | T29: 1.44 | U29: 1.7 | V29: 2.2 | W29: 42 | X29: 27 | Y29: 8
B30: OPRAWY PRZEMYSŁOWE | C30: PLAFONY | D30: Kobi | E30: Oprawa kanałowa SOMA PC 1xE27 60 siatka plastik czarna Kobi | F30: 005231 | G30: Oprawy techniczne | H30: 24.98 | I30: =$H30*(1-Rabat!$D$25) -> 24.98 | J30: nie dotyczy | K30: 5907178026946 | L30: szt | M30: 10 | N30: 400 | O30: 2 lata | P30: https://b2b.kobi.pl/pl/product/13684,oprawa-kanalowa-soma-pc-1xe27-60-siatka-plastik-czarna-kobi?currency=PLN | R30: nowość | S30: 94051940 | T30: 0.18 | U30: 0.47 | V30: 0.48 | W30: 19 | X30: 12.5 | Y30: 10.5
B31: OPRAWY PRZEMYSŁOWE | C31: PLAFONY | D31: Kobi | E31: Plafon RUTO 1xE27 czarny szkło Kobi | F31: 005229 | G31: Oprawy techniczne | H31: 44.75 | I31: =$H31*(1-Rabat!$D$25) -> 44.75 | J31: nie dotyczy | K31: 5907178026939 | L31: szt | M31: 8 | N31: 184 | O31: 2 lata | P31: https://b2b.kobi.pl/pl/product/13682,plafon-ruto-1xe27-czarny-szklo-kobi?currency=PLN | R31: nowość | S31: 94051940 | T31: 0.41 | U31: 1.05 | V31: 1.06 | W31: 10 | X31: 22 | Y31: 22
B32: OPRAWY DOMOWE | C32: WZROST ROŚLIN | D32: Kobi Design | E32: Przewód łączeniowy do GROWLY 15W 1m Kobi Design | F32: 005223 | G32: Wzrost roślin | H32: 8.75 | I32: =$H32*(1-Rabat!$D$33) -> 8.75 | K32: 5907178026922 | L32: szt | M32: 500 | O32: 2 lata | P32: https://b2b.kobi.pl/pl/product/13676,przewod-laczeniowy-do-growly-15w-1m-kobi-design?currency=PLN | R32: nowość | S32: 91070000 | T32: 0 | U32: 0.033 | V32: 0.033 | W32: 0 | X32: 0 | Y32: 0
B33: OPRAWY DOMOWE | C33: WZROST ROŚLIN | D33: Kobi Design | E33: Przewód łączeniowy do GROWLY 15W 0,6m Kobi Design | F33: 005222 | G33: Wzrost roślin | H33: 6.25 | I33: =$H33*(1-Rabat!$D$33) -> 6.25 | K33: 5907178026915 | L33: szt | M33: 600 | O33: 2 lata | P33: https://b2b.kobi.pl/pl/product/13675,przewod-laczeniowy-do-growly-15w-0-6m-kobi-design?currency=PLN | R33: nowość | S33: 91070000 | T33: 0 | U33: 0.022 | V33: 0.022 | W33: 0 | X33: 0 | Y33: 0
B34: OSPRZĘT ELEKTROINSTALACYJNY | C34: AKCESORIA | D34: Kobi | E34: Moduł zasilacza montażowy 24V 60W 2,50A | F34: 005210 | G34: Akcesoria | H34: 59.9 | I34: =$H34*(1-Rabat!$D$38) -> 59.9 | J34: nie dotyczy | K34: 5902479642147 | L34: szt | M34: 1 | O34: 2 lata | P34: https://b2b.kobi.pl/pl/product/13663,modul-zasilacza-montazowy-24v-60w-2-50a?currency=PLN | Q34: https://eprel.ec.europa.eu/qr/nie dotyczy | S34: 85044095 | T34: 0 | U34: 0.18 | V34: 0.2 | W34: 11.5 | X34: 8.5 | Y34: 3.2
B35: OSPRZĘT ELEKTROINSTALACYJNY | C35: AKCESORIA | D35: Kobi | E35: Moduł zasilacza montażowy 24V 150W 6,25A | F35: 005209 | G35: Akcesoria | H35: 120.01 | I35: =$H35*(1-Rabat!$D$38) -> 120.01 | J35: nie dotyczy | K35: 5902479642161 | L35: szt | M35: 1 | O35: 2 lata | P35: https://b2b.kobi.pl/pl/product/13662,modul-zasilacza-montazowy-24v-150w-6-25a?currency=PLN | Q35: https://eprel.ec.europa.eu/qr/nie dotyczy | S35: 85044095 | T35: 0 | U35: 0.3 | V35: 0.32 | W35: 13.5 | X35: 10 | Y35: 4
B36: OSPRZĘT ELEKTROINSTALACYJNY | C36: AKCESORIA | D36: Kobi | E36: Moduł zasilacza montażowy 24V 200W 8.30A | F36: 005208 | G36: Akcesoria | H36: 157.66 | I36: =$H36*(1-Rabat!$D$38) -> 157.66 | J36: nie dotyczy | K36: 5902479641959 | L36: szt | M36: 1 | O36: 2 lata | P36: https://b2b.kobi.pl/pl/product/13661,modul-zasilacza-montazowy-24v-200w-8-30a?currency=PLN | Q36: https://eprel.ec.europa.eu/qr/nie dotyczy | S36: 85044095 | T36: 0 | U36: 0.45 | V36: 0.48 | W36: 16.5 | X36: 10.5 | Y36: 4.7
B37: OPRAWY PRZEMYSŁOWE | C37: LINIOWE LED | D37: Kobi Professional | E37: Oprawa LED NEXFORCE N2 max. 70W 4000K Kobi Pro | F37: 005191 | G37: Liniowe LED | H37: 322.22 | I37: =$H37*(1-Rabat!$D$17) -> 322.22 | J37: nie dotyczy | K37: 5907178026687 | L37: szt | M37: 9 | O37: 5 lat | P37: https://b2b.kobi.pl/pl/product/13644,oprawa-led-nexforce-n2-70w-4000k-kobi-pro?currency=PLN | Q37: https://eprel.ec.europa.eu/qr/2082512 | R37: nowość | S37: 94051140 | T37: 1.38 | U37: 1.63 | V37: 1.95 | W37: 153 | X37: 8.5 | Y37: 8.3
B38: OSPRZĘT ELEKTROINSTALACYJNY | C38: AKCESORIA | D38: Kobi | E38: Moduł zasilacza wodoodporny 24V 30W 1.25A IP67 | F38: 005148 | G38: Akcesoria | H38: 68.16 | I38: =$H38*(1-Rabat!$D$38) -> 68.16 | J38: nie dotyczy | K38: 5902479642222 | L38: szt | M38: 1 | O38: 2 lata | P38: https://b2b.kobi.pl/pl/product/13601,modul-zasilacza-wodoodporny-24v-30w-1-25a-ip67?currency=PLN | Q38: https://eprel.ec.europa.eu/qr/nie dotyczy | S38: 85044095 | T38: 0 | U38: 0.14 | V38: 0.15 | W38: 15.5 | X38: 4.1 | Y38: 2.7
B39: OSPRZĘT ELEKTROINSTALACYJNY | C39: AKCESORIA | D39: Kobi | E39: Moduł zasilacza montażowy 24V 250W 10,40A | F39: 005147 | G39: Akcesoria | H39: 178.12 | I39: =$H39*(1-Rabat!$D$38) -> 178.12 | J39: nie dotyczy | K39: 5902479642178 | L39: szt | M39: 1 | O39: 2 lata | P39: https://b2b.kobi.pl/pl/product/13600,modul-zasilacza-montazowy-24v-250w-10-40a?currency=PLN | Q39: https://eprel.ec.europa.eu/qr/nie dotyczy | S39: 85044095 | T39: 0 | U39: 0.45 | V39: 0.48 | W39: 16.5 | X39: 10.5 | Y39: 4.7
B40: OSPRZĘT ELEKTROINSTALACYJNY | C40: AKCESORIA | D40: Kobi | E40: Zasilacz desktop 12V 24W 2,0A wtyk DC 2,1x5,5 | F40: 005116 | G40: Akcesoria | H40: 52 | I40: =$H40*(1-Rabat!$D$38) -> 52 | J40: nie dotyczy | K40: 5902479642253 | L40: szt | M40: 1 | O40: 2 lata | Q40: https://eprel.ec.europa.eu/qr/nie dotyczy | S40: 85044095 | T40: 0 | U40: 0.18 | V40: 0.25 | W40: 0 | X40: 0 | Y40: 0
...

Sheet Cennik wyprzedaż
C1: Cennik obowiązujący od dnia: | D1: 12.10.2026 | E1: www.kobi.pl
A2: Zdjęcie | B2: Artykuł | C2: Kod | D2: Cena wyprzedażowa | E2: EEI | F2: Kod EAN | G2: jm | H2: Ilość w opakowaniu zbiorczym | I2: Ilość na palecie | J2: Gwarancja | K2: WWW | L2: Eprel | M2: CN | N2: KGO | O2: Waga netto (kg) | P2: Waga brutto (kg) | Q2: Długość (cm) | R2: Szerokość (cm) | S2: Wysokość (cm)
B3: Zestaw 2x Girlanda Venezia + zasilacz 12V 24W do VENEZIA + Kabel 47cm Kobi Design | C3: 005155 | D3: 123 | E3: nie dotyczy | F3: 5907178026410 | G3: szt | J3: 2 lata | K3: https://b2b.kobi.pl/pl/product/13608,zestaw-2xvenezia-zasilacz-12v-24w-do-venezia-kabel-47cm-kobi-design?currency=PLN | L3: https://eprel.ec.europa.eu/qr/2032423 | M3: 94054131 | N3: 0 | O3: 0 | P3: 0 | Q3: 0 | R3: 0 | S3: 0
B4: ZESTAW CRETE Girlanda ogrodowa 20m + kabel 10m + 20x klosz M2 | C4: 005141 | D4: 158.65 | E4: nie dotyczy | F4: 5907178026380 | G4: szt | J4: 2 lata | K4: https://b2b.kobi.pl/pl/product/13594,zestaw-crete-girlanda-ogrodowa-20m-kabel-10m-20x-klosz-m2?currency=PLN | N4: 0 | O4: 6.98 | P4: 8.94 | Q4: 0 | R4: 0 | S4: 0
B5: ZESTAW CRETE Girlanda ogrodowa 20m + kabel 10m + 20x klosz M1 | C5: 005140 | D5: 163.65 | E5: nie dotyczy | F5: 5907178026373 | G5: szt | J5: 2 lata | K5: https://b2b.kobi.pl/pl/product/13593,zestaw-crete-girlanda-ogrodowa-20m-kabel-10m-20x-klosz-m1?currency=PLN | M5: 94054990 | N5: 0 | O5: 6.98 | P5: 8.94 | Q5: 0 | R5: 0 | S5: 0
B6: ZESTAW CRETE Girlanda ogrodowa 15m + kabel 10m + 15x klosz M2 | C6: 005139 | D6: 122.9 | E6: nie dotyczy | F6: 5907178026366 | G6: szt | J6: 2 lata | K6: https://b2b.kobi.pl/pl/product/13592,zestaw-crete-girlanda-ogrodowa-15m-kabel-10m-15x-klosz-m2?currency=PLN | N6: 0 | O6: 5.43 | P6: 7.04 | Q6: 0 | R6: 0 | S6: 0
B7: ZESTAW CRETE Girlanda ogrodowa 15m + kabel 10m + 15x klosz M1 | C7: 005138 | D7: 126.65 | E7: nie dotyczy | F7: 5907178026359 | G7: szt | J7: 2 lata | K7: https://b2b.kobi.pl/pl/product/13591,zestaw-crete-girlanda-ogrodowa-15m-kabel-10m-15x-klosz-m1?currency=PLN | N7: 0 | O7: 5.43 | P7: 7.04 | Q7: 0 | R7: 0 | S7: 0
B8: ZESTAW CRETE Girlanda ogrodowa 10m + kabel 10m + 10x klosz M2 | C8: 005137 | D8: 87.15 | E8: nie dotyczy | F8: 5907178026342 | G8: szt | J8: 2 lata | K8: https://b2b.kobi.pl/pl/product/13590,zestaw-crete-girlanda-ogrodowa-10m-kabel-10m-10x-klosz-m2?currency=PLN | N8: 0 | O8: 3.88 | P8: 5.14 | Q8: 0 | R8: 0 | S8: 0
B9: ZESTAW CRETE Girlanda ogrodowa 10m + kabel 10m + 10x klosz M1 | C9: 005136 | D9: 89.65 | E9: nie dotyczy | F9: 5907178026335 | G9: szt | J9: 2 lata | K9: https://b2b.kobi.pl/pl/product/13589,zestaw-crete-girlanda-ogrodowa-10m-kabel-10m-10x-klosz-m1?currency=PLN | N9: 0 | O9: 3.88 | P9: 5.14 | Q9: 0 | R9: 0 | S9: 0
B10: ZESTAW CRETE Girlanda ogrodowa 5m + kabel 10m + 5x klosz M2 | C10: 005135 | D10: 51.4 | E10: nie dotyczy | F10: 5907178026328 | G10: szt | J10: 2 lata | K10: https://b2b.kobi.pl/pl/product/13588,zestaw-crete-girlanda-ogrodowa-5m-kabel-10m-5x-klosz-m2?currency=PLN | M10: 85444290 | N10: 0 | O10: 2.33 | P10: 3.24 | Q10: 0 | R10: 0 | S10: 0
B11: ZESTAW CRETE Girlanda ogrodowa 5m + kabel 10m + 5x klosz M1 | C11: 005134 | D11: 52.65 | E11: nie dotyczy | F11: 5907178026311 | G11: szt | J11: 2 lata | K11: https://b2b.kobi.pl/pl/product/13587,zestaw-crete-girlanda-ogrodowa-5m-kabel-10m-5x-klosz-m1?currency=PLN | N11: 0 | O11: 2.33 | P11: 3.24 | Q11: 0 | R11: 0 | S11: 0
B12: ZESTAW CRETE Girlanda ogrodowa 15m + kabel 5m + 15x klosz D1 | C12: 005132 | D12: 126.4 | E12: nie dotyczy | F12: 5907178026298 | G12: szt | J12: 2 lata | K12: https://b2b.kobi.pl/pl/product/13585,zestaw-crete-girlanda-ogrodowa-15m-kabel-5m-15x-klosz-d1?currency=PLN | M12: 85444290 | N12: 0 | O12: 3.68 | P12: 5.13 | Q12: 0 | R12: 0 | S12: 0
B13: ZESTAW CRETE Girlanda ogrodowa 15m + kabel 5m + 15x klosz M2 | C13: 005131 | D13: 115.9 | E13: nie dotyczy | F13: 5907178026281 | G13: szt | J13: 2 lata | K13: https://b2b.kobi.pl/pl/product/13584,zestaw-crete-girlanda-ogrodowa-15m-kabel-5m-15x-klosz-m2?currency=PLN | M13: 85444290 | N13: 0 | O13: 5.09 | P13: 6.63 | Q13: 0 | R13: 0 | S13: 0
B14: ZESTAW CRETE Girlanda ogrodowa 15m + kabel 5m + 15x klosz M1 | C14: 005130 | D14: 119.65 | E14: nie dotyczy | F14: 5907178026274 | G14: szt | J14: 2 lata | K14: https://b2b.kobi.pl/pl/product/13583,zestaw-crete-girlanda-ogrodowa-15m-kabel-5m-15x-klosz-m1?currency=PLN | M14: 85444290 | N14: 0 | O14: 5.09 | P14: 6.63 | Q14: 0 | R14: 0 | S14: 0
B15: ZESTAW CRETE Girlanda ogrodowa 20m + kabel 5m + 20x klosz D1 | C15: 005128 | D15: 165.65 | E15: nie dotyczy | F15: 5907178026250 | G15: szt | J15: 2 lata | K15: https://b2b.kobi.pl/pl/product/13581,zestaw-crete-girlanda-ogrodowa-20m-kabel-5m-20x-klosz-d1?currency=PLN | M15: 85444290 | N15: 0 | O15: 4.76 | P15: 6.53 | Q15: 0 | R15: 0 | S15: 0
B16: ZESTAW CRETE Girlanda ogrodowa 20m + kabel 5m + 20x klosz M2 | C16: 005127 | D16: 151.65 | E16: nie dotyczy | F16: 5907178026243 | G16: szt | J16: 2 lata | K16: https://b2b.kobi.pl/pl/product/13580,zestaw-crete-girlanda-ogrodowa-20m-kabel-5m-20x-klosz-m2?currency=PLN | M16: 85444290 | N16: 0 | O16: 6.64 | P16: 8.53 | Q16: 0 | R16: 0 | S16: 0
B17: ZESTAW CRETE Girlanda ogrodowa 20m + kabel 5m + 20x klosz M1 | C17: 005126 | D17: 156.65 | E17: nie dotyczy | F17: 5907178026236 | G17: szt | J17: 2 lata | K17: https://b2b.kobi.pl/pl/product/13579,zestaw-crete-girlanda-ogrodowa-20m-kabel-5m-20x-klosz-m1?currency=PLN | M17: 85444290 | N17: 0 | O17: 6.64 | P17: 8.53 | Q17: 0 | R17: 0 | S17: 0
B18: ZESTAW CRETE Girlanda ogrodowa 10m + kabel 5m + 10x klosz D1 | C18: 005124 | D18: 87.15 | E18: nie dotyczy | F18: 5907178026212 | G18: szt | J18: 2 lata | K18: https://b2b.kobi.pl/pl/product/13577,zestaw-crete-girlanda-ogrodowa-10m-kabel-5m-10x-klosz-d1?currency=PLN | M18: 85444290 | N18: 0 | O18: 2.6 | P18: 3.73 | Q18: 0 | R18: 0 | S18: 0
B19: ZESTAW CRETE Girlanda ogrodowa 10m + kabel 5m + 10x klosz M2 | C19: 005123 | D19: 80.15 | E19: nie dotyczy | F19: 5907178026205 | G19: szt | J19: 2 lata | K19: https://b2b.kobi.pl/pl/product/13576,zestaw-crete-girlanda-ogrodowa-10m-kabel-5m-10x-klosz-m2?currency=PLN | M19: 85444290 | N19: 0 | O19: 3.54 | P19: 4.73 | Q19: 0 | R19: 0 | S19: 0
B20: ZESTAW CRETE Girlanda ogrodowa 10m + kabel 5m + 10x klosz M1 | C20: 005122 | D20: 82.65 | E20: nie dotyczy | F20: 5907178026199 | G20: szt | J20: 2 lata | K20: https://b2b.kobi.pl/pl/product/13575,zestaw-crete-girlanda-ogrodowa-10m-kabel-5m-10x-klosz-m1?currency=PLN | M20: 85444290 | N20: 0 | O20: 3.54 | P20: 4.73 | Q20: 0 | R20: 0 | S20: 0
B21: ZESTAW CRETE Girlanda ogrodowa 5m + kabel 5m + 5x klosz D1 | C21: 005120 | D21: 47.9 | E21: nie dotyczy | F21: 5907178026175 | G21: szt | J21: 2 lata | K21: https://b2b.kobi.pl/pl/product/13573,zestaw-crete-girlanda-ogrodowa-5m-kabel-5m-5x-klosz-d1?currency=PLN | N21: 0 | O21: 1.52 | P21: 2.33 | Q21: 0 | R21: 0 | S21: 0
B22: ZESTAW CRETE Girlanda ogrodowa 5m + kabel 5m + 5x klosz M2 | C22: 005119 | D22: 44.4 | E22: nie dotyczy | F22: 5907178026168 | G22: szt | J22: 2 lata | K22: https://b2b.kobi.pl/pl/product/13572,zestaw-crete-girlanda-ogrodowa-5m-kabel-5m-5x-klosz-m2?currency=PLN | N22: 0 | O22: 1.99 | P22: 2.83 | Q22: 0 | R22: 0 | S22: 0
B23: ZESTAW CRETE Girlanda ogrodowa 5m + kabel 5m + 5x klosz M1 | C23: 005118 | D23: 45.65 | E23: nie dotyczy | F23: 5907178026151 | G23: szt | J23: 2 lata | K23: https://b2b.kobi.pl/pl/product/13571,zestaw-crete-girlanda-ogrodowa-5m-kabel-5m-5x-klosz-m1?currency=PLN | N23: 0 | O23: 1.99 | P23: 2.83 | Q23: 0 | R23: 0 | S23: 0
B24: Lampka biurkowa BATILA BAMBOO ST 1xE27 LLS | C24: 002603 | D24: 81.56 | E24: nie dotyczy | F24: 5902201381603 | G24: szt | H24: 1 | J24: 2 lata | K24: https://b2b.kobi.pl/pl/product/10940,lampka-biurkowa-batila-bamboo-st-1xe27-lls?currency=PLN | M24: 94051990 | N24: 0.29 | O24: 0.7 | P24: 1.4 | Q24: 35 | R24: 35 | S24: 31
B25: Lampka na monitor LED ZENARRA 5W CCT LLS | C25: 002600 | D25: 9.99 | E25: nie dotyczy | F25: 5902201378337 | G25: szt | H25: 20 | J25: 2 lata | K25: https://b2b.kobi.pl/pl/product/10937,lampka-na-monitor-led-zenarra-5w-cct-lls?currency=PLN | L25: https://eprel.ec.europa.eu/qr/2077089 | M25: 94052990 | N25: 0.42 | O25: 0.5 | P25: 0.51 | Q25: 36 | R25: 98 | S25: 12
B26: Lampa wisząca SOLIX BAMBOO 1xE27 LLS | C26: 002579 | D26: 60.6 | E26: nie dotyczy | F26: 5902201366471 | G26: szt | H26: 1 | J26: 2 lata | K26: https://b2b.kobi.pl/pl/product/10916,lampa-wiszaca-solix-bamboo-1xe27-lls?currency=PLN | M26: 94051990 | N26: 0.36 | O26: 0.88 | P26: 1.55 | Q26: 33 | R26: 28 | S26: 29.5
B27: Lampa wisząca OLEA BAMBOO 1xE27 LLS | C27: 002572 | D27: 49.87 | E27: nie dotyczy | F27: 5902201366402 | G27: szt | H27: 1 | J27: 2 lata | K27: https://b2b.kobi.pl/pl/product/10909,lampa-wiszaca-olea-bamboo-1xe27-lls?currency=PLN | M27: 94051990 | N27: 0.2 | O27: 0.5 | P27: 1.3 | Q27: 46 | R27: 46 | S27: 20.5
B28: Lampa ogrodowa kwadratowa 1xGU10 IP44 czarna LLS | C28: 002546 | D28: 9.9 | E28: nie dotyczy | F28: 5902846016458 | G28: szt | H28: 24 | I28: 840 | J28: 2 lata | K28: https://b2b.kobi.pl/pl/product/10883,lampa-ogrodowa-kwadratowa-1xgu10-ip44-czarna-lls?currency=PLN | M28: 94054990 | N28: 0.15 | O28: 0.393 | P28: 0.451 | Q28: 10.5 | R28: 10.5 | S28: 10.5
B29: Panel solarny LA-300 Laitica | C29: 002505 | D29: 483.17 | E29: nie dotyczy | F29: 5902201359497 | G29: szt | J29: 2 lata | K29: https://b2b.kobi.pl/pl/product/10842,panel-solarny-la-300-laitica?currency=PLN | M29: 85414300 | N29: 2.6 | O29: 6.35 | P29: 6.985 | Q29: 0 | R29: 0 | S29: 0
B30: Lampka biurkowa LED ORBI 2,5W CCT różowa Laitica | C30: 002429 | D30: 25 | E30: nie dotyczy | F30: 5902201368307 | G30: szt | H30: 12 | J30: 2 lata | K30: https://b2b.kobi.pl/pl/product/10766,lampka-biurkowa-led-orbi-2-5w-cct-rozowa-laitica?currency=PLN | M30: 94052140 | N30: 0.67 | O30: 0.79 | P30: 0.869 | Q30: 0 | R30: 0 | S30: 0
B31: Lampka biurkowa LED ORBI 2,5W CCT niebieska Laitica | C31: 002428 | D31: 25 | E31: nie dotyczy | F31: 5902201368291 | G31: szt | H31: 12 | I31: 672 | J31: 2 lata | K31: https://b2b.kobi.pl/pl/product/10765,lampka-biurkowa-led-orbi-2-5w-cct-niebieska-laitica?currency=PLN | M31: 94052140 | N31: 0.67 | O31: 0.79 | P31: 0.869 | Q31: 0 | R31: 0 | S31: 0
B32: Lampka biurkowa LED ORBI 2,5W CCT szara Laitica | C32: 002427 | D32: 25 | E32: nie dotyczy | F32: 5902201368284 | G32: szt | H32: 12 | I32: 672 | J32: 2 lata | K32: https://b2b.kobi.pl/pl/product/10764,lampka-biurkowa-led-orbi-2-5w-cct-szara-laitica?currency=PLN | M32: 94052140 | N32: 0.67 | O32: 0.79 | P32: 0.869 | Q32: 0 | R32: 0 | S32: 0
B33: Lampka biurkowa LED ORBI 2,5W CCT biała Laitica | C33: 002426 | D33: 25 | E33: nie dotyczy | F33: 5902201368277 | G33: szt | H33: 12 | I33: 672 | J33: 2 lata | K33: https://b2b.kobi.pl/pl/product/10763,lampka-biurkowa-led-orbi-2-5w-cct-biala-laitica?currency=PLN | M33: 94052140 | N33: 0.67 | O33: 0.79 | P33: 0.869 | Q33: 0 | R33: 0 | S33: 0
B34: Lampka biurkowa LED ORBI 2,5W CCT czarna Laitica | C34: 002425 | D34: 25 | E34: nie dotyczy | F34: 5902201368260 | G34: szt | H34: 12 | I34: 672 | J34: 2 lata | K34: https://b2b.kobi.pl/pl/product/10762,lampka-biurkowa-led-orbi-2-5w-cct-czarna-laitica?currency=PLN | M34: 94052140 | N34: 0.67 | O34: 0.79 | P34: 0.869 | Q34: 0 | R34: 0 | S34: 0
B35: Kinkiet ogrodowy QUAZAR 5 2xGU10 IP44 czarny Kobi | C35: 002286 | D35: 39.34 | E35: nie dotyczy | F35: 5900605095249 | G35: szt | H35: 10 | J35: 2 lata | K35: https://b2b.kobi.pl/pl/product/10623,kinkiet-ogrodowy-quazar-5-2xgu10-ip44-czarny-kobi?currency=PLN | M35: 94051990 | N35: 0.25 | O35: 0.641 | P35: 0.807 | Q35: 9.5 | R35: 9.3 | S35: 27
B36: Oprawa do nadbudowania LED VALLE 4,2W 3000K Art of Light | C36: 002217 | D36: 10.46 | E36: nie dotyczy | F36: 5902846011514 | G36: szt | H36: 18 | I36: 175 | J36: 2 lata | K36: https://b2b.kobi.pl/pl/product/10554,oprawa-do-nabudowania-led-valle-4-2w-3000k-art-of-light?currency=PLN | L36: https://eprel.ec.europa.eu/qr/929313 | M36: 94054990 | N36: 0.59 | O36: 0.7 | P36: 0.77 | Q36: 0 | R36: 0 | S36: 0
B37: Kinkiet LED RARO 4,2W 3000K biały Art of Light | C37: 002216 | D37: 13.43 | E37: G | F37: 5902846011606 | G37: szt | H37: 9 | I37: 100 | J37: 2 lata | K37: https://b2b.kobi.pl/pl/product/10553,kinkiet-led-raro-4-2w-3000k-bialy-art-of-light?currency=PLN | L37: https://eprel.ec.europa.eu/qr/941016 | M37: 94054239 | N37: 0.81 | O37: 0.96 | P37: 1.056 | Q37: 0 | R37: 0 | S37: 0
B38: Oprawa VENICE 1xGU10 Art of Light | C38: 002212 | D38: 23.14 | E38: nie dotyczy | F38: 5900605099483 | G38: szt | H38: 12 | J38: 2 lata | K38: https://b2b.kobi.pl/pl/product/10549,oprawa-venice-1xgu10-art-of-light?currency=PLN | M38: 94051990 | N38: 0.31 | O38: 0.79 | P38: 0.869 | Q38: 0 | R38: 0 | S38: 0
B39: Oprawa do nadbudowania STOA 1xGU10 Art of Light | C39: 002206 | D39: 10.46 | E39: nie dotyczy | F39: 5900605098998 | G39: szt | H39: 18 | I39: 270 | J39: 2 lata | K39: https://b2b.kobi.pl/pl/product/10543,oprawa-do-nabudowania-stoa-1xgu10-art-of-light?currency=PLN | M39: 94051990 | N39: 0.26 | O39: 0.66 | P39: 0.726 | Q39: 0 | R39: 0 | S39: 0
B40: Kinkiet SECCO 1xE14 Art of Light | C40: 002204 | D40: 15.53 | E40: nie dotyczy | F40: 5900605099025 | G40: szt | H40: 12 | I40: 168 | J40: 2 lata | K40: https://b2b.kobi.pl/pl/product/10541,kinkiet-secco-1xe14-art-of-light?currency=PLN | M40: 94051990 | N40: 0.62 | O40: 1.6 | P40: 1.76 | Q40: 0 | R40: 0 | S40: 0
...
